BEGIN:VCALENDAR
VERSION:2.0
PRODID:-//Oregon Wraparound - ECPv6.15.20//NONSGML v1.0//EN
CALSCALE:GREGORIAN
METHOD:PUBLISH
X-WR-CALNAME:Oregon Wraparound
X-ORIGINAL-URL:https://oregonwraparound.org
X-WR-CALDESC:Events for Oregon Wraparound
REFRESH-INTERVAL;VALUE=DURATION:PT1H
X-Robots-Tag:noindex
X-PUBLISHED-TTL:PT1H
BEGIN:VTIMEZONE
TZID:America/Los_Angeles
BEGIN:DAYLIGHT
TZOFFSETFROM:-0800
TZOFFSETTO:-0700
TZNAME:PDT
DTSTART:20250309T100000
END:DAYLIGHT
BEGIN:STANDARD
TZOFFSETFROM:-0700
TZOFFSETTO:-0800
TZNAME:PST
DTSTART:20251102T090000
END:STANDARD
BEGIN:DAYLIGHT
TZOFFSETFROM:-0800
TZOFFSETTO:-0700
TZNAME:PDT
DTSTART:20260308T100000
END:DAYLIGHT
BEGIN:STANDARD
TZOFFSETFROM:-0700
TZOFFSETTO:-0800
TZNAME:PST
DTSTART:20261101T090000
END:STANDARD
BEGIN:DAYLIGHT
TZOFFSETFROM:-0800
TZOFFSETTO:-0700
TZNAME:PDT
DTSTART:20270314T100000
END:DAYLIGHT
BEGIN:STANDARD
TZOFFSETFROM:-0700
TZOFFSETTO:-0800
TZNAME:PST
DTSTART:20271107T090000
END:STANDARD
END:VTIMEZONE
BEGIN:VEVENT
DTSTART;TZID=America/Los_Angeles:20260715T130000
DTEND;TZID=America/Los_Angeles:20260715T140000
DTSTAMP:20260423T143456
CREATED:20260223T185951Z
LAST-MODIFIED:20260223T185954Z
UID:10000142-1784120400-1784124000@oregonwraparound.org
SUMMARY:Monthly CANS\, Fidelity Tools\, and WrapStat Coaching Call
DESCRIPTION:Description:\nOne-hour coaching calls open to all Oregon WrapStat users\, wraparound practitioners using TOM 2.0\, WFI-EZ and CANS. Will provide support with any questions or technical assistance needed.\n\n\nIntended Participants:\nWrapStat users including: Data Partners\, backup Data Partners\, Wraparound Care Coordinator Coaches\, and Wraparound Care Coordinator Supervisors. Wraparound practitioners who use WFI-EZ\, TOM 2.0\, and/or WrapStat.\n\n\nLocation:\nOnline\n\n\nDate & Time:\nWednesday\, July 15\, 2026 from 1pm – 2pm\n\n\n\n			\n			\n				\n				\n				\n				\n			\n			\n				\n				\n				\n				\n				\n				\n				\n				\n				\n				Location\nZoom \nRegistration\nRegistration for this call will open at a later date. \nIf you have specific accessibility needs please register as soon as possible. Accommodations need to be arranged a minimum of 3 weeks prior to the event. The registration for this training will close approximately one week prior to the event. \nFor assistance with captcha difficulties\, please email orwrap@pdx.edu. \n  \nPlease note: This training is intended for Oregon practitioners only.
URL:https://oregonwraparound.org/event/monthly-cans-fidelity-tools-and-wrapstat-coaching-call-11/
LOCATION:Online
CATEGORIES:Technical Support
ORGANIZER;CN="Systems of Care Institute":MAILTO:orwrap@pdx.edu
END:VEVENT
BEGIN:VEVENT
DTSTART;TZID=America/Los_Angeles:20260716T130000
DTEND;TZID=America/Los_Angeles:20260716T143000
DTSTAMP:20260423T143456
CREATED:20250814T164453Z
LAST-MODIFIED:20250820T211450Z
UID:10000073-1784206800-1784212200@oregonwraparound.org
SUMMARY:Cultural Considerations Workgroup
DESCRIPTION:Description:\nCultural Considerations Workgroup is a collaborative learning space for Wraparound practitioners to grow there cultural responsive skills with other practitioners. The meeting is hosted by SOCI and typically involves a sharing of a cultural concept and discussion. In addition it is an opportunity for consultation on cultural considerations when working in Wraparound. To attend please contact Tori Lopez at lopezvic@pdx.edu .\n\n\nIntended Participants:\n\nThis group is for bilingual/ bicultural and cross-cultural Wraparound care coordinators\, Wraparound family partners and Wraparound youth partners. \nPlease note: This training is intended for Oregon practitioners only. \n\n\n\nLocation:\nOnline\n\n\nDate & Time:\nThird Thursday of each month\, from 1pm – 2:30pm\n\n\n\n			\n			\n				\n				\n				\n				\n			\n			\n				\n				\n				\n				\n				\n				\n				\n				\n				\n				Location\nZoom \nRegistration\nTo attend please contact Tori Lopez at lopezvic@pdx.edu . \n 
URL:https://oregonwraparound.org/event/cultural-considerations-workgroup/2026-07-16/
LOCATION:Online
CATEGORIES:Workgroup
ORGANIZER;CN="Systems of Care Institute":MAILTO:orwrap@pdx.edu
END:VEVENT
END:VCALENDAR