BEGIN:VCALENDAR
VERSION:2.0
PRODID:-//Oregon Wraparound - ECPv6.15.20//NONSGML v1.0//EN
CALSCALE:GREGORIAN
METHOD:PUBLISH
X-ORIGINAL-URL:https://oregonwraparound.org
X-WR-CALDESC:Events for Oregon Wraparound
REFRESH-INTERVAL;VALUE=DURATION:PT1H
X-Robots-Tag:noindex
X-PUBLISHED-TTL:PT1H
BEGIN:VTIMEZONE
TZID:America/Los_Angeles
BEGIN:DAYLIGHT
TZOFFSETFROM:-0800
TZOFFSETTO:-0700
TZNAME:PDT
DTSTART:20250309T100000
END:DAYLIGHT
BEGIN:STANDARD
TZOFFSETFROM:-0700
TZOFFSETTO:-0800
TZNAME:PST
DTSTART:20251102T090000
END:STANDARD
BEGIN:DAYLIGHT
TZOFFSETFROM:-0800
TZOFFSETTO:-0700
TZNAME:PDT
DTSTART:20260308T100000
END:DAYLIGHT
BEGIN:STANDARD
TZOFFSETFROM:-0700
TZOFFSETTO:-0800
TZNAME:PST
DTSTART:20261101T090000
END:STANDARD
BEGIN:DAYLIGHT
TZOFFSETFROM:-0800
TZOFFSETTO:-0700
TZNAME:PDT
DTSTART:20270314T100000
END:DAYLIGHT
BEGIN:STANDARD
TZOFFSETFROM:-0700
TZOFFSETTO:-0800
TZNAME:PST
DTSTART:20271107T090000
END:STANDARD
END:VTIMEZONE
BEGIN:VEVENT
DTSTART;TZID=America/Los_Angeles:20260303T100000
DTEND;TZID=America/Los_Angeles:20260303T160000
DTSTAMP:20260423T101016
CREATED:20260204T194301Z
LAST-MODIFIED:20260204T194953Z
UID:10000126-1772532000-1772553600@oregonwraparound.org
SUMMARY:Impact Makers: Foundational Training for YSS in Wraparound
DESCRIPTION:Description:\n\nJoin us for the Impact Makers: Foundational Training for Wraparound YSS\, designed to equip you with the essential skills and knowledge to support youth and families effectively. This training covers the principles\, phases\, and components of the Wraparound process\, ensuring you understand how to provide individualized\, family-driven\, and culturally responsive planning. \nThis training is required for all WYSS and will also be open to other Wraparound provider role types to deepen system-wide understanding of the Youth Support Specialist’s role in Wraparound. \n🚩Heads Up: To get OHA sponsorship\, you’ll need to have finished Wraparound Foundations Training through the System of Care Institute. Please make sure you’re eligible before registering 😁 \nImpact Makers is composed of two five-hour modules held virtually on Zoom.  \n\n\n\nIntended Participants:\nYouth Support Specialists in Wraparound and other Wraparound provider role types. \n\n\nLocation:\nOnline\n\n\nDate & Time:\nTuesday\, March 3 & Wednesday\, March 4\, 2026 from 10:00am – 4:00pm (1-hour lunch)\n\n\n\n			\n			\n				\n				\n				\n				\n			\n			\n				\n				\n				\n				\n				\n				\n				\n				\n				\n				Location\nZoom \nRegistration\nRegister for this training by following this link: \nhttps://www.youthera.org/peerplus/impact-makers-mar26
URL:https://oregonwraparound.org/event/impact-makers-foundational-training-for-yss-in-wraparound/2026-03-03/
LOCATION:Online
CATEGORIES:Training
ORGANIZER;CN="Youth ERA":MAILTO:yeconnect@youthera.org
END:VEVENT
BEGIN:VEVENT
DTSTART;TZID=America/Los_Angeles:20260304T100000
DTEND;TZID=America/Los_Angeles:20260304T160000
DTSTAMP:20260423T101016
CREATED:20260204T194301Z
LAST-MODIFIED:20260204T194953Z
UID:10000127-1772618400-1772640000@oregonwraparound.org
SUMMARY:Impact Makers: Foundational Training for YSS in Wraparound
DESCRIPTION:Description:\n\nJoin us for the Impact Makers: Foundational Training for Wraparound YSS\, designed to equip you with the essential skills and knowledge to support youth and families effectively. This training covers the principles\, phases\, and components of the Wraparound process\, ensuring you understand how to provide individualized\, family-driven\, and culturally responsive planning. \nThis training is required for all WYSS and will also be open to other Wraparound provider role types to deepen system-wide understanding of the Youth Support Specialist’s role in Wraparound. \n🚩Heads Up: To get OHA sponsorship\, you’ll need to have finished Wraparound Foundations Training through the System of Care Institute. Please make sure you’re eligible before registering 😁 \nImpact Makers is composed of two five-hour modules held virtually on Zoom.  \n\n\n\nIntended Participants:\nYouth Support Specialists in Wraparound and other Wraparound provider role types. \n\n\nLocation:\nOnline\n\n\nDate & Time:\nTuesday\, March 3 & Wednesday\, March 4\, 2026 from 10:00am – 4:00pm (1-hour lunch)\n\n\n\n			\n			\n				\n				\n				\n				\n			\n			\n				\n				\n				\n				\n				\n				\n				\n				\n				\n				Location\nZoom \nRegistration\nRegister for this training by following this link: \nhttps://www.youthera.org/peerplus/impact-makers-mar26
URL:https://oregonwraparound.org/event/impact-makers-foundational-training-for-yss-in-wraparound/2026-03-04/
LOCATION:Online
CATEGORIES:Training
ORGANIZER;CN="Youth ERA":MAILTO:yeconnect@youthera.org
END:VEVENT
BEGIN:VEVENT
DTSTART;TZID=America/Los_Angeles:20260305T083000
DTEND;TZID=America/Los_Angeles:20260305T123000
DTSTAMP:20260423T101016
CREATED:20260204T203504Z
LAST-MODIFIED:20260204T203504Z
UID:10000032-1772699400-1772713800@oregonwraparound.org
SUMMARY:OFSN Training: Wraparound Phase 1
DESCRIPTION:Description:\nIn this training we will take a deeper dive into Phase 1 of Wraparound and to role of the FFS/Family Partner. We will break down the activities in this phase and how those activities support the bigger process of Wraparound.We will take a look into Family Support Specialist best practices for engagement and helping the team prepare for meeting a family where they are at.\n\n\nIntended Participants:\nFSSes who have completed SOCI’s 4-part Wraparound Foundations Training.\n\n\nLocation:\nOnline\n\n\nDate & Time:\nThursday\, March 5\, 2026 from 8:30am – 12:30pm\n\n\n\n			\n			\n				\n				\n				\n				\n			\n			\n				\n				\n				\n				\n				\n				\n				\n				\n				\n				Location\nZoom \nRegistration\nRegister for this training using the link below: \nhttps://www.eventbrite.com/e/wraparound-phase-1-tickets-1979273551473?aff=oddtdtcreator
URL:https://oregonwraparound.org/event/ofsn-training-wraparound-phase-1/
LOCATION:Online
CATEGORIES:Training
ORGANIZER;CN="Oregon Family Support Network":MAILTO:shawnac@ofsn.net
END:VEVENT
END:VCALENDAR