BEGIN:VCALENDAR
VERSION:2.0
PRODID:-//Oregon Wraparound - ECPv6.15.20//NONSGML v1.0//EN
CALSCALE:GREGORIAN
METHOD:PUBLISH
X-WR-CALNAME:Oregon Wraparound
X-ORIGINAL-URL:https://oregonwraparound.org
X-WR-CALDESC:Events for Oregon Wraparound
REFRESH-INTERVAL;VALUE=DURATION:PT1H
X-Robots-Tag:noindex
X-PUBLISHED-TTL:PT1H
BEGIN:VTIMEZONE
TZID:America/Los_Angeles
BEGIN:DAYLIGHT
TZOFFSETFROM:-0800
TZOFFSETTO:-0700
TZNAME:PDT
DTSTART:20250309T100000
END:DAYLIGHT
BEGIN:STANDARD
TZOFFSETFROM:-0700
TZOFFSETTO:-0800
TZNAME:PST
DTSTART:20251102T090000
END:STANDARD
BEGIN:DAYLIGHT
TZOFFSETFROM:-0800
TZOFFSETTO:-0700
TZNAME:PDT
DTSTART:20260308T100000
END:DAYLIGHT
BEGIN:STANDARD
TZOFFSETFROM:-0700
TZOFFSETTO:-0800
TZNAME:PST
DTSTART:20261101T090000
END:STANDARD
BEGIN:DAYLIGHT
TZOFFSETFROM:-0800
TZOFFSETTO:-0700
TZNAME:PDT
DTSTART:20270314T100000
END:DAYLIGHT
BEGIN:STANDARD
TZOFFSETFROM:-0700
TZOFFSETTO:-0800
TZNAME:PST
DTSTART:20271107T090000
END:STANDARD
END:VTIMEZONE
BEGIN:VEVENT
DTSTART;TZID=America/Los_Angeles:20260217T090000
DTEND;TZID=America/Los_Angeles:20260217T120000
DTSTAMP:20260423T100832
CREATED:20250814T212857Z
LAST-MODIFIED:20260210T231336Z
UID:10000110-1771318800-1771329600@oregonwraparound.org
SUMMARY:Advanced Training: Natural Supports
DESCRIPTION:Description:\n\nThis advanced training will focus on developing and enhancing practitioners’ knowledge and skills related to Natural supports in Wraparound. This includes discussing common barriers\, as well as strategies and tools to help identify\, include\, and develop new natural supports. \nNOTE: Advanced trainings refer to the trainings’ content advancing beyond what is learned in the foundational training\, not to it being for individuals with advanced knowledge or experience on the topic. \n\n\n\nIntended Participants:\n\nAll Wraparound practitioners \nPlease note: This training is intended for Oregon practitioners only. \n\n\n\nLocation:\nOnline\n\n\nDate & Time:\nTuesday\, February 17\, 2026 from 9am – 12pm\n\n\n\n			\n			\n				\n				\n				\n				\n			\n			\n				\n				\n				\n				\n				\n				\n				\n				\n				\n				Location\nZoom \nRegistration\nRegistration for this training is now closed. \nIf you have specific accessibility needs please register as soon as possible. Accommodations need to be arranged a minimum of 3 weeks prior to the event. The registration for this training will close approximately one week prior to the event. \nFor assistance with captcha difficulties\, please email orwrap@pdx.edu. \nPlease note: This training is intended for Oregon practitioners only.
URL:https://oregonwraparound.org/event/advanced-training-natural-supports-2/
LOCATION:Online
CATEGORIES:Training
ORGANIZER;CN="Systems of Care Institute":MAILTO:orwrap@pdx.edu
END:VEVENT
BEGIN:VEVENT
DTSTART;TZID=America/Los_Angeles:20260218T083000
DTEND;TZID=America/Los_Angeles:20260218T123000
DTSTAMP:20260423T100832
CREATED:20260115T194514Z
LAST-MODIFIED:20260115T211006Z
UID:10000024-1771403400-1771417800@oregonwraparound.org
SUMMARY:OFSN Training: Partners In Possibility\, Parts 1 & 2
DESCRIPTION:Description:\n\nWraparound FSS Module 1 & 2. Empower others–and yourself! OFSN’s Partners In Possibility is a two-part training designed specifically for Family Support Specialists\, who play a key role in the Wraparound process. Increase understanding of Wraparound fidelity and gain tools and practical strategies to bring family voice to the forefront\, strengthen partnerships with team members\, and support families through every phase of Wraparound. \nThis training is two four-hour sessions over two days. \nPrerequisite: Completion of SOCI’s 4-part Wraparound Foundations series. \n\n\n\nIntended Participants:\nFSSes who have completed SOCI’s 4-part Wraparound Foundations Training.\n\n\nLocation:\nOnline\n\n\nDate & Time:\nSunday\, February 18 & Sunday\, February 25\, 2026 from 8:30am – 12:30pm\n\n\n\n			\n			\n				\n				\n				\n				\n			\n			\n				\n				\n				\n				\n				\n				\n				\n				\n				\n				Location\nZoom \nRegistration\nRegister for this training using the following link: \nhttps://www.eventbrite.com/e/wraparound-fss-module-1-2-feb-18th-and-25th-2026-tickets-1974929452155?aff=oddtdtcreator
URL:https://oregonwraparound.org/event/ofsn-training-partners-in-possibility-parts-1-2/2026-02-18/
LOCATION:Online
CATEGORIES:Training
ORGANIZER;CN="Oregon Family Support Network":MAILTO:shawnac@ofsn.net
END:VEVENT
BEGIN:VEVENT
DTSTART;TZID=America/Los_Angeles:20260218T130000
DTEND;TZID=America/Los_Angeles:20260218T140000
DTSTAMP:20260423T100832
CREATED:20250821T050039Z
LAST-MODIFIED:20251223T182936Z
UID:10000116-1771419600-1771423200@oregonwraparound.org
SUMMARY:Monthly CANS\, Fidelity Tools\, and WrapStat Coaching Call
DESCRIPTION:Description:\nOne-hour coaching calls open to all Oregon WrapStat users\, wraparound practitioners using TOM 2.0\, WFI-EZ and CANS. Will provide support with any questions or technical assistance needed.\n\n\nIntended Participants:\nWrapStat users including: Data Partners\, backup Data Partners\, Wraparound Care Coordinator Coaches\, and Wraparound Care Coordinator Supervisors. Wraparound practitioners who use WFI-EZ\, TOM 2.0\, and/or WrapStat.\n\n\nLocation:\nOnline\n\n\nDate & Time:\nWednesday\, February 18\, 2026 from 1pm – 2pm\n\n\n\n			\n				\n				\n				\n				\n				\n\n			\n			\n				\n				\n				\n				\n			\n			\n				\n				\n				\n				\n				\n				\n				\n				\n				\n				Location\nZoom \nRegistration\nRegistration for this call will open at a later date. \nIf you have specific accessibility needs please register as soon as possible. Accommodations need to be arranged a minimum of 3 weeks prior to the event. The registration for this training will close approximately one week prior to the event. \nFor assistance with captcha difficulties\, please email orwrap@pdx.edu. \n  \nPlease note: This training is intended for Oregon practitioners only.
URL:https://oregonwraparound.org/event/monthly-cans-fidelity-tools-and-wrapstat-coaching-call-6/
LOCATION:Online
CATEGORIES:Coaching
ORGANIZER;CN="Systems of Care Institute":MAILTO:orwrap@pdx.edu
END:VEVENT
BEGIN:VEVENT
DTSTART;TZID=America/Los_Angeles:20260219T130000
DTEND;TZID=America/Los_Angeles:20260219T143000
DTSTAMP:20260423T100832
CREATED:20250814T164453Z
LAST-MODIFIED:20250820T211450Z
UID:10000068-1771506000-1771511400@oregonwraparound.org
SUMMARY:Cultural Considerations Workgroup
DESCRIPTION:Description:\nCultural Considerations Workgroup is a collaborative learning space for Wraparound practitioners to grow there cultural responsive skills with other practitioners. The meeting is hosted by SOCI and typically involves a sharing of a cultural concept and discussion. In addition it is an opportunity for consultation on cultural considerations when working in Wraparound. To attend please contact Tori Lopez at lopezvic@pdx.edu .\n\n\nIntended Participants:\n\nThis group is for bilingual/ bicultural and cross-cultural Wraparound care coordinators\, Wraparound family partners and Wraparound youth partners. \nPlease note: This training is intended for Oregon practitioners only. \n\n\n\nLocation:\nOnline\n\n\nDate & Time:\nThird Thursday of each month\, from 1pm – 2:30pm\n\n\n\n			\n			\n				\n				\n				\n				\n			\n			\n				\n				\n				\n				\n				\n				\n				\n				\n				\n				Location\nZoom \nRegistration\nTo attend please contact Tori Lopez at lopezvic@pdx.edu . \n 
URL:https://oregonwraparound.org/event/cultural-considerations-workgroup/2026-02-19/
LOCATION:Online
CATEGORIES:Workgroup
ORGANIZER;CN="Systems of Care Institute":MAILTO:orwrap@pdx.edu
END:VEVENT
END:VCALENDAR