BEGIN:VCALENDAR
VERSION:2.0
PRODID:-//Oregon Wraparound - ECPv6.15.20//NONSGML v1.0//EN
CALSCALE:GREGORIAN
METHOD:PUBLISH
X-ORIGINAL-URL:https://oregonwraparound.org
X-WR-CALDESC:Events for Oregon Wraparound
REFRESH-INTERVAL;VALUE=DURATION:PT1H
X-Robots-Tag:noindex
X-PUBLISHED-TTL:PT1H
BEGIN:VTIMEZONE
TZID:America/Los_Angeles
BEGIN:DAYLIGHT
TZOFFSETFROM:-0800
TZOFFSETTO:-0700
TZNAME:PDT
DTSTART:20250309T100000
END:DAYLIGHT
BEGIN:STANDARD
TZOFFSETFROM:-0700
TZOFFSETTO:-0800
TZNAME:PST
DTSTART:20251102T090000
END:STANDARD
BEGIN:DAYLIGHT
TZOFFSETFROM:-0800
TZOFFSETTO:-0700
TZNAME:PDT
DTSTART:20260308T100000
END:DAYLIGHT
BEGIN:STANDARD
TZOFFSETFROM:-0700
TZOFFSETTO:-0800
TZNAME:PST
DTSTART:20261101T090000
END:STANDARD
BEGIN:DAYLIGHT
TZOFFSETFROM:-0800
TZOFFSETTO:-0700
TZNAME:PDT
DTSTART:20270314T100000
END:DAYLIGHT
BEGIN:STANDARD
TZOFFSETFROM:-0700
TZOFFSETTO:-0800
TZNAME:PST
DTSTART:20271107T090000
END:STANDARD
END:VTIMEZONE
BEGIN:VEVENT
DTSTART;TZID=America/Los_Angeles:20260203T083000
DTEND;TZID=America/Los_Angeles:20260203T123000
DTSTAMP:20260423T115143
CREATED:20251008T202948Z
LAST-MODIFIED:20251008T202949Z
UID:10000022-1770107400-1770121800@oregonwraparound.org
SUMMARY:Wraparound Foundational Training: Module Three
DESCRIPTION:Description: \n\n\n\n\nWraparound Foundational Training: Module Three\n\nTuesday\, February 3\, 2026\n8:30 am – 12:30 pm\n\n\nLocation: Zoom\n \nTrainers: Caitlin Baird\, Kristin Everhart\, Maria Hermsen-Kritz\, Tori Lopez\, Danielle Phillips\, Hannah Watah – SOCI \nThis training will provide participants with a foundational understanding of the principles\, phases and activities necessary to implement fidelity Wraparound according to the National Wraparound Initiative.  Participants will leave with an understanding of their respective roles within Wraparound and how to orient youth\, families\, and system partners to the process. Participants will learn and practice facilitation skills\, receive hands-on experience utilizing the CANS within the Wraparound planning process\, and have opportunities to demonstrate learned information and skills through simulation and group work. \nJanuary 2026 Foundational Training Schedule:All modules will be 8:30am – 12:30 pm \nPLEASE NOTE: This is a sequential training and all modules need to be taken in order. \n\nWeek 1 | Module 1 & 2 | January 27 & 28 [Tuesday & Wednesday]Week 2 | Module 3 & 4 | February 3 & 4 [Tuesday & Wednesday]\n\n\n\n\n\n\nIntended Participants: \n\n\nNewly hired Wraparound: Care Coordinators\, Care Coordinator Supervisors and Coaches\, Family Partners\, Youth Partners\, Youth Partner Supervisors\, and Family Partner Supervisors \nPlease note: This training is intended for Oregon practitioners only. \n\n\n\n\n  \n			\n			\n				\n				\n				\n				\n			\n			\n				\n				\n				\n				\n				\n				\n				\n				\n				\n				Location\nZoom \nRegistration\nNOTE: REGISTERING FOR MODULE 1 OF THE FOUNDATIONAL TRAINING WILL AUTOMATICALLY REGISTER YOU FOR ALL MODULES \nRegister for Module 1 of this training. \nPlease note: This training is intended for Oregon practitioners only. \n 
URL:https://oregonwraparound.org/event/wraparound-foundational-training-module-three/
LOCATION:Online
CATEGORIES:Training
ORGANIZER;CN="Systems of Care Institute":MAILTO:orwrap@pdx.edu
END:VEVENT
BEGIN:VEVENT
DTSTART;TZID=America/Los_Angeles:20260204T083000
DTEND;TZID=America/Los_Angeles:20260204T123000
DTSTAMP:20260423T115143
CREATED:20251008T210101Z
LAST-MODIFIED:20251008T210101Z
UID:10000023-1770193800-1770208200@oregonwraparound.org
SUMMARY:Wraparound Foundational Training: Module Four
DESCRIPTION:Description: \n\n\n\n\nWraparound Foundational Training: Module Four\n\nWednesday\, February 4\, 2026\n8:30 am – 12:30 pm\n\n\nLocation: Zoom\n \nTrainers: Caitlin Baird\, Kristin Everhart\, Maria Hermsen-Kritz\, Tori Lopez\, Danielle Phillips\, Hannah Watah – SOCI \nThis training will provide participants with a foundational understanding of the principles\, phases and activities necessary to implement fidelity Wraparound according to the National Wraparound Initiative.  Participants will leave with an understanding of their respective roles within Wraparound and how to orient youth\, families\, and system partners to the process. Participants will learn and practice facilitation skills\, receive hands-on experience utilizing the CANS within the Wraparound planning process\, and have opportunities to demonstrate learned information and skills through simulation and group work. \nJanuary 2026 Foundational Training Schedule:All modules will be 8:30am – 12:30 pm \nPLEASE NOTE: This is a sequential training and all modules need to be taken in order. \nWeek 1 | Module 1 & 2 | January 27 & 28 [Tuesday & Wednesday]Week 2 | Module 3 & 4 | February 3 & 4 [Tuesday & Wednesday] \n\n\n\n\n\n\n\nIntended Participants: \n\n\nNewly hired Wraparound: Care Coordinators\, Care Coordinator Supervisors and Coaches\, Family Partners\, Youth Partners\, Youth Partner Supervisors\, and Family Partner Supervisors \nPlease note: This training is intended for Oregon practitioners only. \n\n\n\n\n  \n			\n			\n				\n				\n				\n				\n			\n			\n				\n				\n				\n				\n				\n				\n				\n				\n				\n				Location\nZoom \nRegistration\nNOTE: REGISTERING FOR MODULE 1 OF THE FOUNDATIONAL TRAINING WILL AUTOMATICALLY REGISTER YOU FOR ALL MODULES \nRegister for Module 1 of this training. \nPlease note: This training is intended for Oregon practitioners only. \n 
URL:https://oregonwraparound.org/event/wraparound-foundational-training-module-four/
LOCATION:Online
CATEGORIES:Training
ORGANIZER;CN="Systems of Care Institute":MAILTO:orwrap@pdx.edu
END:VEVENT
END:VCALENDAR