BEGIN:VCALENDAR
VERSION:2.0
PRODID:-//Oregon Wraparound - ECPv6.15.20//NONSGML v1.0//EN
CALSCALE:GREGORIAN
METHOD:PUBLISH
X-WR-CALNAME:Oregon Wraparound
X-ORIGINAL-URL:https://oregonwraparound.org
X-WR-CALDESC:Events for Oregon Wraparound
REFRESH-INTERVAL;VALUE=DURATION:PT1H
X-Robots-Tag:noindex
X-PUBLISHED-TTL:PT1H
BEGIN:VTIMEZONE
TZID:America/Los_Angeles
BEGIN:DAYLIGHT
TZOFFSETFROM:-0800
TZOFFSETTO:-0700
TZNAME:PDT
DTSTART:20250309T100000
END:DAYLIGHT
BEGIN:STANDARD
TZOFFSETFROM:-0700
TZOFFSETTO:-0800
TZNAME:PST
DTSTART:20251102T090000
END:STANDARD
BEGIN:DAYLIGHT
TZOFFSETFROM:-0800
TZOFFSETTO:-0700
TZNAME:PDT
DTSTART:20260308T100000
END:DAYLIGHT
BEGIN:STANDARD
TZOFFSETFROM:-0700
TZOFFSETTO:-0800
TZNAME:PST
DTSTART:20261101T090000
END:STANDARD
BEGIN:DAYLIGHT
TZOFFSETFROM:-0800
TZOFFSETTO:-0700
TZNAME:PDT
DTSTART:20270314T100000
END:DAYLIGHT
BEGIN:STANDARD
TZOFFSETFROM:-0700
TZOFFSETTO:-0800
TZNAME:PST
DTSTART:20271107T090000
END:STANDARD
END:VTIMEZONE
BEGIN:VEVENT
DTSTART;TZID=America/Los_Angeles:20260114T090000
DTEND;TZID=America/Los_Angeles:20260114T120000
DTSTAMP:20260423T131303
CREATED:20251031T204050Z
LAST-MODIFIED:20260107T192832Z
UID:10000092-1768381200-1768392000@oregonwraparound.org
SUMMARY:Advanced Training: Cultural and Linguistic Responsiveness - Working with LGBTQIA+ Youth
DESCRIPTION:Description:\n\nWraparound serves youth of all backgrounds and cultures including youth who identify as part of the LGBTQ+ community.  This training will discuss cultural information related to LGBTQ+ youth. We will also address common challenges youth within this community may face both within Wraparound and in their communities; this includes interrupting harmful language\, maintaining a growth mindset\, and supporting youth in the ways that they identify. \nNOTE: Advanced trainings refer to the trainings’ content advancing beyond what is learned in the foundational training\, not to it being for individuals with advanced knowledge or experience on the topic. \n\n\n\nIntended Participants:\n\nAll Wraparound practitioners \nPlease note: This training is intended for Oregon practitioners only. \n\n\n\nLocation:\nOnline\n\n\nDate & Time:\nWednedsay\, January 14\, 2026 from 9am – 12pm\n\n\n\n			\n			\n				\n				\n				\n				\n			\n			\n				\n				\n				\n				\n				\n				\n				\n				\n				\n				Location\nZoom \nRegistration\nRegistration for this training is now closed. \nIf you have specific accessibility needs please register as soon as possible. Accommodations need to be arranged a minimum of 3 weeks prior to the event. The registration for this training will close approximately one week prior to the event. \nFor assistance with captcha difficulties\, please email orwrap@pdx.edu. \nPlease note: This training is intended for Oregon practitioners only.
URL:https://oregonwraparound.org/event/advanced-training-cultural-and-linguistic-responsiveness-working-with-lgbtqia-youth/
LOCATION:Online
CATEGORIES:Training
ORGANIZER;CN="Systems of Care Institute":MAILTO:orwrap@pdx.edu
END:VEVENT
BEGIN:VEVENT
DTSTART;TZID=America/Los_Angeles:20260115T130000
DTEND;TZID=America/Los_Angeles:20260115T143000
DTSTAMP:20260423T131303
CREATED:20250814T164453Z
LAST-MODIFIED:20250820T211450Z
UID:10000067-1768482000-1768487400@oregonwraparound.org
SUMMARY:Cultural Considerations Workgroup
DESCRIPTION:Description:\nCultural Considerations Workgroup is a collaborative learning space for Wraparound practitioners to grow there cultural responsive skills with other practitioners. The meeting is hosted by SOCI and typically involves a sharing of a cultural concept and discussion. In addition it is an opportunity for consultation on cultural considerations when working in Wraparound. To attend please contact Tori Lopez at lopezvic@pdx.edu .\n\n\nIntended Participants:\n\nThis group is for bilingual/ bicultural and cross-cultural Wraparound care coordinators\, Wraparound family partners and Wraparound youth partners. \nPlease note: This training is intended for Oregon practitioners only. \n\n\n\nLocation:\nOnline\n\n\nDate & Time:\nThird Thursday of each month\, from 1pm – 2:30pm\n\n\n\n			\n			\n				\n				\n				\n				\n			\n			\n				\n				\n				\n				\n				\n				\n				\n				\n				\n				Location\nZoom \nRegistration\nTo attend please contact Tori Lopez at lopezvic@pdx.edu . \n 
URL:https://oregonwraparound.org/event/cultural-considerations-workgroup/2026-01-15/
LOCATION:Online
CATEGORIES:Workgroup
ORGANIZER;CN="Systems of Care Institute":MAILTO:orwrap@pdx.edu
END:VEVENT
END:VCALENDAR