BEGIN:VCALENDAR
VERSION:2.0
PRODID:-//Oregon Wraparound - ECPv6.15.20//NONSGML v1.0//EN
CALSCALE:GREGORIAN
METHOD:PUBLISH
X-ORIGINAL-URL:https://oregonwraparound.org
X-WR-CALDESC:Events for Oregon Wraparound
REFRESH-INTERVAL;VALUE=DURATION:PT1H
X-Robots-Tag:noindex
X-PUBLISHED-TTL:PT1H
BEGIN:VTIMEZONE
TZID:America/Los_Angeles
BEGIN:DAYLIGHT
TZOFFSETFROM:-0800
TZOFFSETTO:-0700
TZNAME:PDT
DTSTART:20250309T100000
END:DAYLIGHT
BEGIN:STANDARD
TZOFFSETFROM:-0700
TZOFFSETTO:-0800
TZNAME:PST
DTSTART:20251102T090000
END:STANDARD
BEGIN:DAYLIGHT
TZOFFSETFROM:-0800
TZOFFSETTO:-0700
TZNAME:PDT
DTSTART:20260308T100000
END:DAYLIGHT
BEGIN:STANDARD
TZOFFSETFROM:-0700
TZOFFSETTO:-0800
TZNAME:PST
DTSTART:20261101T090000
END:STANDARD
BEGIN:DAYLIGHT
TZOFFSETFROM:-0800
TZOFFSETTO:-0700
TZNAME:PDT
DTSTART:20270314T100000
END:DAYLIGHT
BEGIN:STANDARD
TZOFFSETFROM:-0700
TZOFFSETTO:-0800
TZNAME:PST
DTSTART:20271107T090000
END:STANDARD
END:VTIMEZONE
BEGIN:VEVENT
DTSTART;TZID=America/Los_Angeles:20260505T083000
DTEND;TZID=America/Los_Angeles:20260505T123000
DTSTAMP:20260423T071513
CREATED:20251009T181053Z
LAST-MODIFIED:20260310T190502Z
UID:10000027-1777969800-1777984200@oregonwraparound.org
SUMMARY:Care Coordinator Foundational Training – Module One
DESCRIPTION:Description: \n\n\n\n\nCare Coordinator Foundational Training: Module One\n\nTuesday\, May 5\, 2026\n8:30 am – 12:30 pm\n\nLocation: Zoom\nTrainers: Caitlin Baird\, Kristin Everhart\, Maria Hermsen-Kritz\, Tori Lopez\, Danielle Phillips\, Hannah Watah – SOCI \nThis registration is for the Wraparound Care Coordinator role-specific foundational training\, which providers attend after completing the Introductory Wraparound Foundational Training modules. \nWCC registration will be prioritized for WCC role-specific trainings. Providers are able to attend all role-specific trainings\, after completing their own role-specific foundational training\, as understanding the functions of all Wraparound core team members increases collaboration in the Wraparound process.  \nMay 2026 Care Coordinator Training Schedule:All modules will be 8:30am – 12:30 pm \nModule 1 & 2 | May 5 & 6 [Tuesday & Wednesday] \nPLEASE NOTE: This is a sequential training and all modules need to be taken in order. \n\n\n\n\n\n\n\nIntended Participants: \n\n\nNewly hired Wraparound: Care Coordinators\, Care Coordinator Supervisors and Coaches\, Family Partners\, Youth Partners\, Youth Partner Supervisors\, and Family Partner Supervisors \nPlease note: This training is intended for Oregon practitioners only. \n\n\n\n\n  \n			\n				\n				\n				\n				\n				\n\n			\n			\n				\n				\n				\n				\n			\n			\n				\n				\n				\n				\n				\n				\n				\n				\n				\n				Location\nZoom \nRegistration\nRegister for this training using the form below. \nRegistering for Module 1 will automatically register you for all modules in this training series. \nIf you have specific accessibility needs please register as soon as possible. Accommodations need to be arranged a minimum of 3 weeks prior to the event. The registration for this training will close approximately one week prior to the event. \nFor assistance with captcha difficulties\, please email orwrap@pdx.edu. \nPlease note: This training is intended for Oregon practitioners only. \n 
URL:https://oregonwraparound.org/event/care-coordinator-foundational-training-module-one/
LOCATION:Online
CATEGORIES:Training
ORGANIZER;CN="Systems of Care Institute":MAILTO:orwrap@pdx.edu
END:VEVENT
BEGIN:VEVENT
DTSTART;TZID=America/Los_Angeles:20260506T083000
DTEND;TZID=America/Los_Angeles:20260506T123000
DTSTAMP:20260423T071513
CREATED:20251009T183241Z
LAST-MODIFIED:20251009T183317Z
UID:10000026-1778056200-1778070600@oregonwraparound.org
SUMMARY:Care Coordinator Foundational Training – Module Two
DESCRIPTION:Description: \n\n\n\n\nCare Coordinator Foundational Training: Module Two\n\nWednesday\, May 6\, 2026\n8:30 am – 12:30 pm\n\nLocation: Zoom\nTrainers: Caitlin Baird\, Kristin Everhart\, Maria Hermsen-Kritz\, Tori Lopez\, Danielle Phillips\, Hannah Watah – SOCI \nThis registration is for the Wraparound Care Coordinator role-specific foundational training\, which providers attend after completing the Introductory Wraparound Foundational Training modules. \nWCC registration will be prioritized for WCC role-specific trainings. Providers are able to attend all role-specific trainings\, after completing their own role-specific foundational training\, as understanding the functions of all Wraparound core team members increases collaboration in the Wraparound process.  \nMay 2026 Care Coordinator Training Schedule:All modules will be 8:30am – 12:30 pm \nModule 1 & 2 | May 5 & 6 [Tuesday & Wednesday] \nPLEASE NOTE: This is a sequential training and all modules need to be taken in order. \n\n\n\n\n\n\n\nIntended Participants: \n\n\nNewly hired Wraparound: Care Coordinators\, Care Coordinator Supervisors and Coaches\, Family Partners\, Youth Partners\, Youth Partner Supervisors\, and Family Partner Supervisors \nPlease note: This training is intended for Oregon practitioners only. \n\n\n\n\n  \n			\n			\n				\n				\n				\n				\n			\n			\n				\n				\n				\n				\n				\n				\n				\n				\n				\n				Location\nZoom \nRegistration\nNOTE: REGISTERING FOR MODULE 1 OF THE CARE COORDINATOR TRAINING WILL AUTOMATICALLY REGISTER YOU FOR ALL MODULES \nRegister for Module 1 of this training. \nIf you have specific accessibility needs please register as soon as possible. Accommodations need to be arranged a minimum of 3 weeks prior to the event. The registration for this training will close approximately one week prior to the event. \nFor assistance with captcha difficulties\, please email orwrap@pdx.edu. \nPlease note: This training is intended for Oregon practitioners only. \n 
URL:https://oregonwraparound.org/event/care-coordinator-foundational-training-module-two-2/
LOCATION:Online
CATEGORIES:Training
ORGANIZER;CN="Systems of Care Institute":MAILTO:orwrap@pdx.edu
END:VEVENT
BEGIN:VEVENT
DTSTART;TZID=America/Los_Angeles:20260512T100000
DTEND;TZID=America/Los_Angeles:20260512T113000
DTSTAMP:20260423T071513
CREATED:20250820T205937Z
LAST-MODIFIED:20260302T202954Z
UID:10000013-1778580000-1778585400@oregonwraparound.org
SUMMARY:WFI-EZ Overview Training
DESCRIPTION:Description:\nThe purpose of this training is to provide an overview of the WFI-EZ tool including why it’s important to collect fidelity data\, the layout of the tool\, why it is being used in Oregon\, the timeline and workflow of WFI-EZ data collection\, and response rate expectations.\n\n\nIntended Participants:\n\nAll wraparound practitioners \nPlease note: This training is intended for Oregon practitioners only. \n\n\n\nLocation:\nOnline\n\n\nDate & Time:\nTuesday\, May 12\, 2026 from 10am – 11:30am\n\n\n\n			\n				\n				\n				\n				\n				\n\n			\n			\n				\n				\n				\n				\n			\n			\n				\n				\n				\n				\n				\n				\n				\n				\n				\n				Location\nZoom \nRegistration\nRegister for this training using the form below. \nIf you have specific accessibility needs please register as soon as possible. Accommodations need to be arranged a minimum of 3 weeks prior to the event. The registration for this training will close approximately one week prior to the event. \nFor assistance with captcha difficulties\, please email orwrap@pdx.edu. \nPlease note: This training is intended for Oregon practitioners only. \n 
URL:https://oregonwraparound.org/event/wfi-ez-overview-training-4/
LOCATION:Online
CATEGORIES:Training
ORGANIZER;CN="Systems of Care Institute":MAILTO:orwrap@pdx.edu
END:VEVENT
BEGIN:VEVENT
DTSTART;TZID=America/Los_Angeles:20260519T100000
DTEND;TZID=America/Los_Angeles:20260519T160000
DTSTAMP:20260423T071513
CREATED:20260204T194826Z
LAST-MODIFIED:20260204T200112Z
UID:10000084-1779184800-1779206400@oregonwraparound.org
SUMMARY:Impact Makers: Foundational Training for YSS in Wraparound
DESCRIPTION:Description:\n\nJoin us for the Impact Makers: Foundational Training for Wraparound YSS\, designed to equip you with the essential skills and knowledge to support youth and families effectively. This training covers the principles\, phases\, and components of the Wraparound process\, ensuring you understand how to provide individualized\, family-driven\, and culturally responsive planning. \nThis training is required for all WYSS and will also be open to other Wraparound provider role types to deepen system-wide understanding of the Youth Support Specialist’s role in Wraparound. \n🚩Heads Up: To get OHA sponsorship\, you’ll need to have finished Wraparound Foundations Training through the System of Care Institute. Please make sure you’re eligible before registering 😁 \nImpact Makers is composed of two five-hour modules held virtually on Zoom.  \n\n\n\nIntended Participants:\nYouth Support Specialists in Wraparound and other Wraparound provider role types. \n\n\nLocation:\nOnline\n\n\nDate & Time:\nTuesday\, May 19 & Wednesday\, May 20\, 2026 from 10:00am – 4:00pm (1-hour lunch)\n\n\n\n			\n			\n				\n				\n				\n				\n			\n			\n				\n				\n				\n				\n				\n				\n				\n				\n				\n				Location\nZoom \nRegistration\nRegister for this training by following this link: \nhttps://www.youthera.org/peerplus/impact-makers-may26
URL:https://oregonwraparound.org/event/foundational-training-for-yss-in-wraparound/2026-05-19/
LOCATION:Online
CATEGORIES:Training
ORGANIZER;CN="Youth ERA":MAILTO:yeconnect@youthera.org
END:VEVENT
BEGIN:VEVENT
DTSTART;TZID=America/Los_Angeles:20260520T100000
DTEND;TZID=America/Los_Angeles:20260520T160000
DTSTAMP:20260423T071513
CREATED:20260204T194826Z
LAST-MODIFIED:20260204T200112Z
UID:10000085-1779271200-1779292800@oregonwraparound.org
SUMMARY:Impact Makers: Foundational Training for YSS in Wraparound
DESCRIPTION:Description:\n\nJoin us for the Impact Makers: Foundational Training for Wraparound YSS\, designed to equip you with the essential skills and knowledge to support youth and families effectively. This training covers the principles\, phases\, and components of the Wraparound process\, ensuring you understand how to provide individualized\, family-driven\, and culturally responsive planning. \nThis training is required for all WYSS and will also be open to other Wraparound provider role types to deepen system-wide understanding of the Youth Support Specialist’s role in Wraparound. \n🚩Heads Up: To get OHA sponsorship\, you’ll need to have finished Wraparound Foundations Training through the System of Care Institute. Please make sure you’re eligible before registering 😁 \nImpact Makers is composed of two five-hour modules held virtually on Zoom.  \n\n\n\nIntended Participants:\nYouth Support Specialists in Wraparound and other Wraparound provider role types. \n\n\nLocation:\nOnline\n\n\nDate & Time:\nTuesday\, May 19 & Wednesday\, May 20\, 2026 from 10:00am – 4:00pm (1-hour lunch)\n\n\n\n			\n			\n				\n				\n				\n				\n			\n			\n				\n				\n				\n				\n				\n				\n				\n				\n				\n				Location\nZoom \nRegistration\nRegister for this training by following this link: \nhttps://www.youthera.org/peerplus/impact-makers-may26
URL:https://oregonwraparound.org/event/foundational-training-for-yss-in-wraparound/2026-05-20/
LOCATION:Online
CATEGORIES:Training
ORGANIZER;CN="Youth ERA":MAILTO:yeconnect@youthera.org
END:VEVENT
BEGIN:VEVENT
DTSTART;TZID=America/Los_Angeles:20260520T130000
DTEND;TZID=America/Los_Angeles:20260520T140000
DTSTAMP:20260423T071513
CREATED:20260209T200550Z
LAST-MODIFIED:20260209T200550Z
UID:10000107-1779282000-1779285600@oregonwraparound.org
SUMMARY:Monthly CANS\, Fidelity Tools\, and WrapStat Coaching Call
DESCRIPTION:Description:\nOne-hour coaching calls open to all Oregon WrapStat users\, wraparound practitioners using TOM 2.0\, WFI-EZ and CANS. Will provide support with any questions or technical assistance needed.\n\n\nIntended Participants:\nWrapStat users including: Data Partners\, backup Data Partners\, Wraparound Care Coordinator Coaches\, and Wraparound Care Coordinator Supervisors. Wraparound practitioners who use WFI-EZ\, TOM 2.0\, and/or WrapStat.\n\n\nLocation:\nOnline\n\n\nDate & Time:\nWednesday\, May 20\, 2026 from 1pm – 2pm\n\n\n\n			\n				\n				\n				\n				\n				\n\n			\n			\n				\n				\n				\n				\n			\n			\n				\n				\n				\n				\n				\n				\n				\n				\n				\n				Location\nZoom \nRegistration\nRegister for this call using the form below. \nIf you have specific accessibility needs please register as soon as possible. Accommodations need to be arranged a minimum of 3 weeks prior to the event. The registration for this training will close approximately one week prior to the event. \nFor assistance with captcha difficulties\, please email orwrap@pdx.edu. \n  \nPlease note: This training is intended for Oregon practitioners only.
URL:https://oregonwraparound.org/event/monthly-cans-fidelity-tools-and-wrapstat-coaching-call-9/
LOCATION:Online
CATEGORIES:Technical Support
ORGANIZER;CN="Systems of Care Institute":MAILTO:orwrap@pdx.edu
END:VEVENT
BEGIN:VEVENT
DTSTART;TZID=America/Los_Angeles:20260521T130000
DTEND;TZID=America/Los_Angeles:20260521T143000
DTSTAMP:20260423T071513
CREATED:20250814T164453Z
LAST-MODIFIED:20250820T211450Z
UID:10000071-1779368400-1779373800@oregonwraparound.org
SUMMARY:Cultural Considerations Workgroup
DESCRIPTION:Description:\nCultural Considerations Workgroup is a collaborative learning space for Wraparound practitioners to grow there cultural responsive skills with other practitioners. The meeting is hosted by SOCI and typically involves a sharing of a cultural concept and discussion. In addition it is an opportunity for consultation on cultural considerations when working in Wraparound. To attend please contact Tori Lopez at lopezvic@pdx.edu .\n\n\nIntended Participants:\n\nThis group is for bilingual/ bicultural and cross-cultural Wraparound care coordinators\, Wraparound family partners and Wraparound youth partners. \nPlease note: This training is intended for Oregon practitioners only. \n\n\n\nLocation:\nOnline\n\n\nDate & Time:\nThird Thursday of each month\, from 1pm – 2:30pm\n\n\n\n			\n			\n				\n				\n				\n				\n			\n			\n				\n				\n				\n				\n				\n				\n				\n				\n				\n				Location\nZoom \nRegistration\nTo attend please contact Tori Lopez at lopezvic@pdx.edu . \n 
URL:https://oregonwraparound.org/event/cultural-considerations-workgroup/2026-05-21/
LOCATION:Online
CATEGORIES:Workgroup
ORGANIZER;CN="Systems of Care Institute":MAILTO:orwrap@pdx.edu
END:VEVENT
END:VCALENDAR