BEGIN:VCALENDAR
VERSION:2.0
PRODID:-//Oregon Wraparound - ECPv6.15.20//NONSGML v1.0//EN
CALSCALE:GREGORIAN
METHOD:PUBLISH
X-WR-CALNAME:Oregon Wraparound
X-ORIGINAL-URL:https://oregonwraparound.org
X-WR-CALDESC:Events for Oregon Wraparound
REFRESH-INTERVAL;VALUE=DURATION:PT1H
X-Robots-Tag:noindex
X-PUBLISHED-TTL:PT1H
BEGIN:VTIMEZONE
TZID:America/Los_Angeles
BEGIN:DAYLIGHT
TZOFFSETFROM:-0800
TZOFFSETTO:-0700
TZNAME:PDT
DTSTART:20240310T100000
END:DAYLIGHT
BEGIN:STANDARD
TZOFFSETFROM:-0700
TZOFFSETTO:-0800
TZNAME:PST
DTSTART:20241103T090000
END:STANDARD
BEGIN:DAYLIGHT
TZOFFSETFROM:-0800
TZOFFSETTO:-0700
TZNAME:PDT
DTSTART:20250309T100000
END:DAYLIGHT
BEGIN:STANDARD
TZOFFSETFROM:-0700
TZOFFSETTO:-0800
TZNAME:PST
DTSTART:20251102T090000
END:STANDARD
BEGIN:DAYLIGHT
TZOFFSETFROM:-0800
TZOFFSETTO:-0700
TZNAME:PDT
DTSTART:20260308T100000
END:DAYLIGHT
BEGIN:STANDARD
TZOFFSETFROM:-0700
TZOFFSETTO:-0800
TZNAME:PST
DTSTART:20261101T090000
END:STANDARD
END:VTIMEZONE
BEGIN:VEVENT
DTSTART;TZID=America/Los_Angeles:20251006T090000
DTEND;TZID=America/Los_Angeles:20251006T110000
DTSTAMP:20260423T143456
CREATED:20250811T203433Z
LAST-MODIFIED:20251001T212911Z
UID:10000089-1759741200-1759748400@oregonwraparound.org
SUMMARY:Wraparound Supervisors and Coaches Workshop: Developing Wraparound 101
DESCRIPTION:Description:\n\nWraparound 101s are short informational sessions intended to inform community and system partners on what Wraparound is\, and how it can benefit the system partner as well as the youth and family.  This workshop will support coaches and supervisors in developing (or refining) Wraparound 101s for their community and system partners. \n\n\n\nIntended Participants:\n\nWraparound Coaches and Supervisors  \nPlease note: This training is intended for Oregon practitioners only. \n\n\n\nLocation:\nOnline\n\n\nDate & Time:\nMonday\, October 6\, 2025 from 9am – 11am\n\n\n\n			\n			\n				\n				\n				\n				\n			\n			\n				\n				\n				\n				\n				\n				\n				\n				\n				\n				Location\nZoom \nRegistration\nRegistration for this workshop is now closed. \nIf you have specific accessibility needs please register as soon as possible. Accommodations need to be arranged a minimum of 3 weeks prior to the event. The registration for this training will close approximately one week prior to the event. \nFor assistance with captcha difficulties\, please email orwrap@pdx.edu. \nPlease note: This training is intended for Oregon practitioners only.
URL:https://oregonwraparound.org/event/wraparound-supervisors-and-coaches-workshop-developing-wraparound-101/
LOCATION:Online
CATEGORIES:Learning Collaborative
ORGANIZER;CN="Systems of Care Institute":MAILTO:orwrap@pdx.edu
END:VEVENT
BEGIN:VEVENT
DTSTART;TZID=America/Los_Angeles:20251008T090000
DTEND;TZID=America/Los_Angeles:20251008T120000
DTSTAMP:20260423T143456
CREATED:20250804T183757Z
LAST-MODIFIED:20251001T213037Z
UID:10000081-1759914000-1759924800@oregonwraparound.org
SUMMARY:Advanced Training: Ableism\, Disability\, & Race
DESCRIPTION:Description:\n\nDuring this advanced training we will examine the definitions and perceptions of disability\, ableism and their intersection with race. We will discuss ableism and how it may present in different settings (such as educational\, health care etc.). We also will discuss how perceptions of disabilities impact the BIPOC community and how it all connects with Wraparound. \nNOTE: Advanced trainings refer to the trainings’ content advancing beyond what is learned in the foundational training\, not to it being for individuals with advanced knowledge or experience on the topic. \n\n\n\nIntended Participants:\n\nAll Wraparound practitioners \nPlease note: This training is intended for Oregon practitioners only. \n\n\n\nLocation:\nOnline\n\n\nDate & Time:\nWednedsay\, October 8\, 2025 from 9am – 12pm\n\n\n\n			\n			\n				\n				\n				\n				\n			\n			\n				\n				\n				\n				\n				\n				\n				\n				\n				\n				Location\nZoom \nRegistration\nRegistration for this training is now closed. \nIf you have specific accessibility needs please register as soon as possible. Accommodations need to be arranged a minimum of 3 weeks prior to the event. The registration for this training will close approximately one week prior to the event. \nFor assistance with captcha difficulties\, please email orwrap@pdx.edu. \nPlease note: This training is intended for Oregon practitioners only.
URL:https://oregonwraparound.org/event/advanced-training-ableism-disability-race/
LOCATION:Online
CATEGORIES:Training
ORGANIZER;CN="Systems of Care Institute":MAILTO:orwrap@pdx.edu
END:VEVENT
BEGIN:VEVENT
DTSTART;TZID=America/Los_Angeles:20251008T130000
DTEND;TZID=America/Los_Angeles:20251008T140000
DTSTAMP:20260423T143456
CREATED:20250821T033515Z
LAST-MODIFIED:20250821T033515Z
UID:10000017-1759928400-1759932000@oregonwraparound.org
SUMMARY:Monthly CANS\, Fidelity Tools\, and WrapStat Coaching Call
DESCRIPTION:Description:\nOne-hour coaching calls open to all Oregon WrapStat users\, wraparound practitioners using TOM 2.0\, WFI-EZ and CANS. Will provide support with any questions or technical assistance needed.\n\n\nIntended Participants:\nWrapStat users including: Data Partners\, backup Data Partners\, Wraparound Care Coordinator Coaches\, and Wraparound Care Coordinator Supervisors. Wraparound practitioners who use WFI-EZ\, TOM 2.0\, and/or WrapStat.\n\n\nLocation:\nOnline\n\n\nDate & Time:\nWednesday\, October 8\, 2025 from 1pm – 2pm\n\n\n\n			\n			\n				\n				\n				\n				\n			\n			\n				\n				\n				\n				\n				\n				\n				\n				\n				\n				Location\nZoom \nRegistration\nRegister for this call using the form below. \nIf you have specific accessibility needs please register as soon as possible. Accommodations need to be arranged a minimum of 3 weeks prior to the event. The registration for this training will close approximately one week prior to the event. \nFor assistance with captcha difficulties\, please email orwrap@pdx.edu. \n  \nPlease note: This training is intended for Oregon practitioners only.
URL:https://oregonwraparound.org/event/monthly-cans-fidelity-tools-and-wrapstat-coaching-call-2/
LOCATION:Online
CATEGORIES:Coaching
ORGANIZER;CN="Systems of Care Institute":MAILTO:orwrap@pdx.edu
END:VEVENT
BEGIN:VEVENT
DTSTART;TZID=America/Los_Angeles:20251016T130000
DTEND;TZID=America/Los_Angeles:20251016T143000
DTSTAMP:20260423T143456
CREATED:20250814T164453Z
LAST-MODIFIED:20250820T211450Z
UID:10000064-1760619600-1760625000@oregonwraparound.org
SUMMARY:Cultural Considerations Workgroup
DESCRIPTION:Description:\nCultural Considerations Workgroup is a collaborative learning space for Wraparound practitioners to grow there cultural responsive skills with other practitioners. The meeting is hosted by SOCI and typically involves a sharing of a cultural concept and discussion. In addition it is an opportunity for consultation on cultural considerations when working in Wraparound. To attend please contact Tori Lopez at lopezvic@pdx.edu .\n\n\nIntended Participants:\n\nThis group is for bilingual/ bicultural and cross-cultural Wraparound care coordinators\, Wraparound family partners and Wraparound youth partners. \nPlease note: This training is intended for Oregon practitioners only. \n\n\n\nLocation:\nOnline\n\n\nDate & Time:\nThird Thursday of each month\, from 1pm – 2:30pm\n\n\n\n			\n			\n				\n				\n				\n				\n			\n			\n				\n				\n				\n				\n				\n				\n				\n				\n				\n				Location\nZoom \nRegistration\nTo attend please contact Tori Lopez at lopezvic@pdx.edu . \n 
URL:https://oregonwraparound.org/event/cultural-considerations-workgroup/2025-10-16/
LOCATION:Online
CATEGORIES:Workgroup
ORGANIZER;CN="Systems of Care Institute":MAILTO:orwrap@pdx.edu
END:VEVENT
BEGIN:VEVENT
DTSTART;TZID=America/Los_Angeles:20251021T083000
DTEND;TZID=America/Los_Angeles:20251021T123000
DTSTAMP:20260423T143456
CREATED:20250822T005639Z
LAST-MODIFIED:20251020T174822Z
UID:10000108-1761035400-1761049800@oregonwraparound.org
SUMMARY:Wraparound Foundational Training - Module 1
DESCRIPTION:Description: \n\n\n\n\nWraparound Foundational Training: Module One\n\nTuesday\, October 21\, 2025\n8:30 am – 12:30 pm\n\nLocation: Zoom\nTrainers: Caitlin Baird\, Kristin Everhart\, Maria Hermsen-Kritz\, Tori Lopez\, Danielle Phillips\, Hannah Watah – SOCI \nThis training will provide participants with a foundational understanding of the principles\, phases and activities necessary to implement fidelity Wraparound according to the National Wraparound Initiative.  Participants will leave with an understanding of their respective roles within Wraparound and how to orient youth\, families\, and system partners to the process. Participants will learn and practice facilitation skills\, receive hands-on experience utilizing the CANS within the Wraparound planning process\, and have opportunities to demonstrate learned information and skills through simulation and group work. \nOctober 2025 Foundational Training Schedule:All modules will be 8:30am – 12:30 pm \nPLEASE NOTE: This is a sequential training and all modules need to be taken in order. \nWeek 1 | Module 1 & 2 | Oct 21 & 22 [Tuesday & Wednesday]Week 2 | Module 3 & 4 | October 28 & 29 [Tuesday & Wednesday] \n\n\n\n\n\n\n\nIntended Participants: \n\n\nNewly hired Wraparound: Care Coordinators\, Care Coordinator Supervisors and Coaches\, Family Support Specialists\, Youth Support Specialists\, Youth Support Specialist Supervisors\, and Family Support Specialist Supervisors \nPlease note: This training is intended for Oregon practitioners only. \n\n\n\n\n  \n			\n			\n				\n				\n				\n				\n			\n			\n				\n				\n				\n				\n				\n				\n				\n				\n				\n				Location\nZoom \nRegistration\nRegistration for this training is now closed. \nRegistering for Module 1 will automatically register you for all modules in this training series. \nIf you have specific accessibility needs please register as soon as possible. Accommodations need to be arranged a minimum of 3 weeks prior to the event. The registration for this training will close approximately one week prior to the event. \nFor assistance with captcha difficulties\, please email orwrap@pdx.edu. \nPlease note: This training is intended for Oregon practitioners only. \n 
URL:https://oregonwraparound.org/event/wraparound-foundational-training-module-1-2/
LOCATION:Online
CATEGORIES:Training
ORGANIZER;CN="Systems of Care Institute":MAILTO:orwrap@pdx.edu
END:VEVENT
BEGIN:VEVENT
DTSTART;TZID=America/Los_Angeles:20251022T083000
DTEND;TZID=America/Los_Angeles:20251022T123000
DTSTAMP:20260423T143456
CREATED:20250822T203643Z
LAST-MODIFIED:20251017T185607Z
UID:10000118-1761121800-1761136200@oregonwraparound.org
SUMMARY:Wraparound Foundational Training – Module 2
DESCRIPTION:Description: \n\n\n\n\nWraparound Foundational Training: Module Two\n\nWednesday\, October 22\, 2025\n8:30 am – 12:30 pm\n\n\nLocation: Zoom\n \nTrainers: Caitlin Baird\, Kristin Everhart\, Maria Hermsen-Kritz\, Tori Lopez\, Danielle Phillips\, Hannah Watah – SOCI \nThis training will provide participants with a foundational understanding of the principles\, phases and activities necessary to implement fidelity Wraparound according to the National Wraparound Initiative.  Participants will leave with an understanding of their respective roles within Wraparound and how to orient youth\, families\, and system partners to the process. Participants will learn and practice facilitation skills\, receive hands-on experience utilizing the CANS within the Wraparound planning process\, and have opportunities to demonstrate learned information and skills through simulation and group work. \nOctober 2025 Foundational Training Schedule:All modules will be 8:30am – 12:30 pm \nPLEASE NOTE: This is a sequential training and all modules need to be taken in order. \nWeek 1 | Module 1 & 2 | Oct 21 & 22 [Tuesday & Wednesday]Week 2 | Module 3 & 4 | October 28 & 29 [Tuesday & Wednesday] \n\n\n\n\n\n\n\nIntended Participants: \n\n\nNewly hired Wraparound: Care Coordinators\, Care Coordinator Supervisors and Coaches\, Family Support Specialists\, Youth Support Specialists\, Youth Support Specialist Supervisors\, and Family Support Specialist Supervisors \nPlease note: This training is intended for Oregon practitioners only. \n\n\n\n\n  \n			\n			\n				\n				\n				\n				\n			\n			\n				\n				\n				\n				\n				\n				\n				\n				\n				\n				Location\nZoom \nRegistration\nNOTE: REGISTERING FOR MODULE 1 OF THE FOUNDATIONAL TRAINING WILL AUTOMATICALLY REGISTER YOU FOR ALL MODULES \nRegister for Module 1 of this training. \nPlease note: This training is intended for Oregon practitioners only. \n 
URL:https://oregonwraparound.org/event/wraparound-foundational-training-module-2-2/
LOCATION:Online
CATEGORIES:Training
ORGANIZER;CN="Systems of Care Institute":MAILTO:orwrap@pdx.edu
END:VEVENT
BEGIN:VEVENT
DTSTART;TZID=America/Los_Angeles:20251028T083000
DTEND;TZID=America/Los_Angeles:20251028T123000
DTSTAMP:20260423T143456
CREATED:20250822T205252Z
LAST-MODIFIED:20251017T185637Z
UID:10000119-1761640200-1761654600@oregonwraparound.org
SUMMARY:Wraparound Foundational Training – Module 3
DESCRIPTION:Description: \n\n\n\n\nWraparound Foundational Training: Module Three\n\nTuesday\, October 28\, 2025\n8:30 am – 12:30 pm\n\n\nLocation: Zoom\n \nTrainers: Caitlin Baird\, Kristin Everhart\, Maria Hermsen-Kritz\, Tori Lopez\, Danielle Phillips\, Hannah Watah – SOCI \nThis training will provide participants with a foundational understanding of the principles\, phases and activities necessary to implement fidelity Wraparound according to the National Wraparound Initiative.  Participants will leave with an understanding of their respective roles within Wraparound and how to orient youth\, families\, and system partners to the process. Participants will learn and practice facilitation skills\, receive hands-on experience utilizing the CANS within the Wraparound planning process\, and have opportunities to demonstrate learned information and skills through simulation and group work. \nOctober 2025 Foundational Training Schedule:All modules will be 8:30am – 12:30 pm \nPLEASE NOTE: This is a sequential training and all modules need to be taken in order. \n\nWeek 1 | Module 1 & 2 | Oct 21 & 22 [Tuesday & Wednesday]Week 2 | Module 3 & 4 | October 28 & 29 [Tuesday & Wednesday]\n\n\n\n\n\n\nIntended Participants: \n\n\nNewly hired Wraparound: Care Coordinators\, Care Coordinator Supervisors and Coaches\, Family Support Specialists\, Youth Support Specialists\, Youth Support Specialist Supervisors\, and Family Support Specialist Supervisors \nPlease note: This training is intended for Oregon practitioners only. \n\n\n\n\n  \n			\n			\n				\n				\n				\n				\n			\n			\n				\n				\n				\n				\n				\n				\n				\n				\n				\n				Location\nZoom \nRegistration\nNOTE: REGISTERING FOR MODULE 1 OF THE FOUNDATIONAL TRAINING WILL AUTOMATICALLY REGISTER YOU FOR ALL MODULES \nRegister for Module 1 of this training. \nPlease note: This training is intended for Oregon practitioners only. \n 
URL:https://oregonwraparound.org/event/wraparound-foundational-training-module-3-2/
LOCATION:Online
CATEGORIES:Training
ORGANIZER;CN="Systems of Care Institute":MAILTO:orwrap@pdx.edu
END:VEVENT
BEGIN:VEVENT
DTSTART;TZID=America/Los_Angeles:20251029T083000
DTEND;TZID=America/Los_Angeles:20251029T123000
DTSTAMP:20260423T143456
CREATED:20250822T210542Z
LAST-MODIFIED:20251017T185706Z
UID:10000120-1761726600-1761741000@oregonwraparound.org
SUMMARY:Wraparound Foundational Training – Module 4
DESCRIPTION:Description: \n\n\n\n\nWraparound Foundational Training: Module Four\n\nWednesday\, October 29\, 2025\n8:30 am – 12:30 pm\n\n\nLocation: Zoom\n \nTrainers: Caitlin Baird\, Kristin Everhart\, Maria Hermsen-Kritz\, Tori Lopez\, Danielle Phillips\, Hannah Watah – SOCI \nThis training will provide participants with a foundational understanding of the principles\, phases and activities necessary to implement fidelity Wraparound according to the National Wraparound Initiative.  Participants will leave with an understanding of their respective roles within Wraparound and how to orient youth\, families\, and system partners to the process. Participants will learn and practice facilitation skills\, receive hands-on experience utilizing the CANS within the Wraparound planning process\, and have opportunities to demonstrate learned information and skills through simulation and group work. \nOctober 2025 Foundational Training Schedule:All modules will be 8:30am – 12:30 pm \nPLEASE NOTE: This is a sequential training and all modules need to be taken in order. \nWeek 1 | Module 1 & 2 | Oct 21 & 22 [Tuesday & Wednesday]Week 2 | Module 3 & 4 | October 28 & 29 [Tuesday & Wednesday] \n\n\n\n\n\n\n\nIntended Participants: \n\n\nNewly hired Wraparound: Care Coordinators\, Care Coordinator Supervisors and Coaches\, Family Support Specialists\, Youth Support Specialists\, Youth Support Specialist Supervisors\, and Family Support Specialist Supervisors \nPlease note: This training is intended for Oregon practitioners only. \n\n\n\n\n  \n			\n			\n				\n				\n				\n				\n			\n			\n				\n				\n				\n				\n				\n				\n				\n				\n				\n				Location\nZoom \nRegistration\nNOTE: REGISTERING FOR MODULE 1 OF THE FOUNDATIONAL TRAINING WILL AUTOMATICALLY REGISTER YOU FOR ALL MODULES \nRegister for Module 1 of this training. \nPlease note: This training is intended for Oregon practitioners only. \n 
URL:https://oregonwraparound.org/event/wraparound-foundational-training-module-4-2/
LOCATION:Online
CATEGORIES:Training
ORGANIZER;CN="Systems of Care Institute":MAILTO:orwrap@pdx.edu
END:VEVENT
BEGIN:VEVENT
DTSTART;TZID=America/Los_Angeles:20251030T103000
DTEND;TZID=America/Los_Angeles:20251030T120000
DTSTAMP:20260423T143456
CREATED:20250821T025834Z
LAST-MODIFIED:20251028T185220Z
UID:10000015-1761820200-1761825600@oregonwraparound.org
SUMMARY:Wraparound Bi-Monthly Consultation Meeting
DESCRIPTION:Desription:\nTrainers will lead discussions on broad topics related to Wraparound and will host discussions around specific questions brought to the consultation by the field.\n\n\nIntended Participants:\n\nCare coordinators\, youth partners\, family partners\, coaches\, and supervisors. \nPlease note: This training is intended for Oregon practitioners only. \n\n\n\nLocation:\nOnline\n\n\nDate & Time:\nThursday\, October 30\, 2025 from 10:30 am – 12:00pm\n\n\n\n			\n			\n				\n				\n				\n				\n			\n			\n				\n				\n				\n				\n				\n				\n				\n				\n				\n				Location\nZoom \nRegistration\nRegistration for this call is now closed. \nIf you have specific accessibility needs please register as soon as possible. Accommodations need to be arranged a minimum of 3 weeks prior to the event. The registration for this training will close approximately one week prior to the event. \nFor assistance with captcha difficulties\, please email orwrap@pdx.edu. \nPlease note: This training is intended for Oregon practitioners only.
URL:https://oregonwraparound.org/event/wraparound-bi-monthly-consultation-meeting/
LOCATION:Online
CATEGORIES:Coaching
ORGANIZER;CN="Systems of Care Institute":MAILTO:orwrap@pdx.edu
END:VEVENT
END:VCALENDAR