BEGIN:VCALENDAR
VERSION:2.0
PRODID:-//Oregon Wraparound - ECPv6.15.20//NONSGML v1.0//EN
CALSCALE:GREGORIAN
METHOD:PUBLISH
X-ORIGINAL-URL:https://oregonwraparound.org
X-WR-CALDESC:Events for Oregon Wraparound
REFRESH-INTERVAL;VALUE=DURATION:PT1H
X-Robots-Tag:noindex
X-PUBLISHED-TTL:PT1H
BEGIN:VTIMEZONE
TZID:America/Los_Angeles
BEGIN:DAYLIGHT
TZOFFSETFROM:-0800
TZOFFSETTO:-0700
TZNAME:PDT
DTSTART:20240310T100000
END:DAYLIGHT
BEGIN:STANDARD
TZOFFSETFROM:-0700
TZOFFSETTO:-0800
TZNAME:PST
DTSTART:20241103T090000
END:STANDARD
BEGIN:DAYLIGHT
TZOFFSETFROM:-0800
TZOFFSETTO:-0700
TZNAME:PDT
DTSTART:20250309T100000
END:DAYLIGHT
BEGIN:STANDARD
TZOFFSETFROM:-0700
TZOFFSETTO:-0800
TZNAME:PST
DTSTART:20251102T090000
END:STANDARD
BEGIN:DAYLIGHT
TZOFFSETFROM:-0800
TZOFFSETTO:-0700
TZNAME:PDT
DTSTART:20260308T100000
END:DAYLIGHT
BEGIN:STANDARD
TZOFFSETFROM:-0700
TZOFFSETTO:-0800
TZNAME:PST
DTSTART:20261101T090000
END:STANDARD
END:VTIMEZONE
BEGIN:VEVENT
DTSTART;TZID=America/Los_Angeles:20250910T090000
DTEND;TZID=America/Los_Angeles:20250910T120000
DTSTAMP:20260423T160310
CREATED:20250714T165022Z
LAST-MODIFIED:20250904T173819Z
UID:10000030-1757494800-1757505600@oregonwraparound.org
SUMMARY:Advanced Training: Writing Outcome Statements
DESCRIPTION:Description:\n\nThis advanced training will focus on developing and enhancing practitioners’ knowledge and skills specific to writing outcome statements as they pertain to the Wraparound planning process. There will be opportunities to practice and ask questions. While the Wraparound Care Coordinators are responsible for writing the outcome statements\, all Wraparound practitioners are welcome to attend this training in order to develop a common understanding and language as it pertains to outcome statements to support youth\, families\, and their team members.  \nNOTE: Advanced trainings refer to the trainings’ content advancing beyond what is learned in the foundational training\, not to it being for individuals with advanced knowledge or experience on the topic. \n\n\n\nIntended Participants:\n\nAll Wraparound practitioners \nPlease note: This training is intended for Oregon practitioners only. \n\n\n\nLocation:\nOnline\n\n\nDate & Time:\nWednedsay\, September 10\, 2025 from 9am – 12pm\n\n\n\n			\n			\n				\n				\n				\n				\n			\n			\n				\n				\n				\n				\n				\n				\n				\n				\n				\n				Location\nZoom \nRegistration\nRegistration for this training is now closed. \nIf you have specific accessibility needs please register as soon as possible. Accommodations need to be arranged a minimum of 3 weeks prior to the event. The registration for this training will close approximately one week prior to the event. \nFor assistance with captcha difficulties\, please email orwrap@pdx.edu. \nPlease note: This training is intended for Oregon practitioners only.
URL:https://oregonwraparound.org/event/advanced-training-writing-outcome-statements/
LOCATION:Online
CATEGORIES:Training
ORGANIZER;CN="Systems of Care Institute":MAILTO:orwrap@pdx.edu
END:VEVENT
BEGIN:VEVENT
DTSTART;TZID=America/Los_Angeles:20250917T130000
DTEND;TZID=America/Los_Angeles:20250917T140000
DTSTAMP:20260423T160310
CREATED:20250821T032722Z
LAST-MODIFIED:20250821T032722Z
UID:10000016-1758114000-1758117600@oregonwraparound.org
SUMMARY:Monthly CANS\, Fidelity Tools\, and WrapStat Coaching Call
DESCRIPTION:Description:\nOne-hour coaching calls open to all Oregon WrapStat users\, wraparound practitioners using TOM 2.0\, WFI-EZ and CANS. Will provide support with any questions or technical assistance needed.\n\n\nIntended Participants:\nWrapStat users including: Data Partners\, backup Data Partners\, Wraparound Care Coordinator Coaches\, and Wraparound Care Coordinator Supervisors. Wraparound practitioners who use WFI-EZ\, TOM 2.0\, and/or WrapStat.\n\n\nLocation:\nOnline\n\n\nDate & Time:\nWednesday\, September 17\, 2025 from 1pm – 2pm\n\n\n\n			\n				\n				\n				\n				\n				\n\n			\n			\n				\n				\n				\n				\n			\n			\n				\n				\n				\n				\n				\n				\n				\n				\n				\n				Location\nZoom \nRegistration\nRegister for this call using the form below. \nIf you have specific accessibility needs please register as soon as possible. Accommodations need to be arranged a minimum of 3 weeks prior to the event. The registration for this training will close approximately one week prior to the event. \nFor assistance with captcha difficulties\, please email orwrap@pdx.edu. \n  \nPlease note: This training is intended for Oregon practitioners only.
URL:https://oregonwraparound.org/event/monthly-cans-fidelity-tools-and-wrapstat-coaching-call/
LOCATION:Online
CATEGORIES:Coaching
END:VEVENT
BEGIN:VEVENT
DTSTART;TZID=America/Los_Angeles:20250918T130000
DTEND;TZID=America/Los_Angeles:20250918T143000
DTSTAMP:20260423T160310
CREATED:20250814T164453Z
LAST-MODIFIED:20250820T211450Z
UID:10000063-1758200400-1758205800@oregonwraparound.org
SUMMARY:Cultural Considerations Workgroup
DESCRIPTION:Description:\nCultural Considerations Workgroup is a collaborative learning space for Wraparound practitioners to grow there cultural responsive skills with other practitioners. The meeting is hosted by SOCI and typically involves a sharing of a cultural concept and discussion. In addition it is an opportunity for consultation on cultural considerations when working in Wraparound. To attend please contact Tori Lopez at lopezvic@pdx.edu .\n\n\nIntended Participants:\n\nThis group is for bilingual/ bicultural and cross-cultural Wraparound care coordinators\, Wraparound family partners and Wraparound youth partners. \nPlease note: This training is intended for Oregon practitioners only. \n\n\n\nLocation:\nOnline\n\n\nDate & Time:\nThird Thursday of each month\, from 1pm – 2:30pm\n\n\n\n			\n			\n				\n				\n				\n				\n			\n			\n				\n				\n				\n				\n				\n				\n				\n				\n				\n				Location\nZoom \nRegistration\nTo attend please contact Tori Lopez at lopezvic@pdx.edu . \n 
URL:https://oregonwraparound.org/event/cultural-considerations-workgroup/2025-09-18/
LOCATION:Online
CATEGORIES:Workgroup
ORGANIZER;CN="Systems of Care Institute":MAILTO:orwrap@pdx.edu
END:VEVENT
BEGIN:VEVENT
DTSTART;TZID=America/Los_Angeles:20250924T100000
DTEND;TZID=America/Los_Angeles:20250924T160000
DTSTAMP:20260423T160310
CREATED:20250812T202903Z
LAST-MODIFIED:20250812T202908Z
UID:10000006-1758708000-1758729600@oregonwraparound.org
SUMMARY:Wraparound Supervisors and Coaches Training
DESCRIPTION:Description:\n\nThis training will provide new supervisors and coaches a developmental framework to assist the knowledge and skill development of Wraparound Care Coordinators\, Wraparound Family Partners\, and Wraparound Youth Partners as well as to support High Quality Wraparound Implemented to Fidelity. \n*This training is repeated every four months; individuals need only attend once.*This training meets the OAR requirement 14 (c). \n\n\n\nIntended Participants:\n\nNewly hired: \n\nWraparound Care Coordinator Supervisors\nWraparound Family Partner Supervisors\nWraparound Youth Partner Supervisors\nWraparound Care Coordinator Coaches\nWraparound Family Partner Coaches\nWraparound Youth Partner Coaches\n\n\n\n\nLocation:\nOnline\n\n\n\n			\n				\n				\n				\n				\n				\n\n			\n			\n				\n				\n				\n				\n			\n			\n				\n				\n				\n				\n				\n				\n				\n				\n				\n				Location\nZoom \nRegistration\nRegister for this training using the form below. \nIf you have specific accessibility needs please register as soon as possible. Accommodations need to be arranged a minimum of 3 weeks prior to the event. The registration for this training will close approximately one week prior to the event. \nFor assistance with captcha difficulties\, please email orwrap@pdx.edu. \nPlease note: This training is intended for Oregon practitioners only.
URL:https://oregonwraparound.org/event/wraparound-supervisors-and-coaches-training/
LOCATION:Online
CATEGORIES:Training
ORGANIZER;CN="Systems of Care Institute":MAILTO:orwrap@pdx.edu
END:VEVENT
END:VCALENDAR