BEGIN:VCALENDAR
VERSION:2.0
PRODID:-//Oregon Wraparound - ECPv6.15.20//NONSGML v1.0//EN
CALSCALE:GREGORIAN
METHOD:PUBLISH
X-WR-CALNAME:Oregon Wraparound
X-ORIGINAL-URL:https://oregonwraparound.org
X-WR-CALDESC:Events for Oregon Wraparound
REFRESH-INTERVAL;VALUE=DURATION:PT1H
X-Robots-Tag:noindex
X-PUBLISHED-TTL:PT1H
BEGIN:VTIMEZONE
TZID:America/Los_Angeles
BEGIN:DAYLIGHT
TZOFFSETFROM:-0800
TZOFFSETTO:-0700
TZNAME:PDT
DTSTART:20240310T100000
END:DAYLIGHT
BEGIN:STANDARD
TZOFFSETFROM:-0700
TZOFFSETTO:-0800
TZNAME:PST
DTSTART:20241103T090000
END:STANDARD
BEGIN:DAYLIGHT
TZOFFSETFROM:-0800
TZOFFSETTO:-0700
TZNAME:PDT
DTSTART:20250309T100000
END:DAYLIGHT
BEGIN:STANDARD
TZOFFSETFROM:-0700
TZOFFSETTO:-0800
TZNAME:PST
DTSTART:20251102T090000
END:STANDARD
BEGIN:DAYLIGHT
TZOFFSETFROM:-0800
TZOFFSETTO:-0700
TZNAME:PDT
DTSTART:20260308T100000
END:DAYLIGHT
BEGIN:STANDARD
TZOFFSETFROM:-0700
TZOFFSETTO:-0800
TZNAME:PST
DTSTART:20261101T090000
END:STANDARD
END:VTIMEZONE
BEGIN:VEVENT
DTSTART;TZID=America/Los_Angeles:20250805T083000
DTEND;TZID=America/Los_Angeles:20250805T123000
DTSTAMP:20260423T172440
CREATED:20250613T213514Z
LAST-MODIFIED:20250613T213514Z
UID:10000128-1754382600-1754397000@oregonwraparound.org
SUMMARY:Wraparound Foundational Training: Module 5
DESCRIPTION:Description: \n\n\n\n\nWraparound Foundational Training: Module Five\n\nTuesday\, August 5\, 2025\n8:30 am – 12:30 pm\n\n\nLocation: Zoom\n \nTrainers: Caitlin Baird\, Kristin Everhart\, Maria Hermsen-Kritz\, Tori Lopez\, Danielle Phillips\, Hannah Watah – SOCI \nThis training will provide participants with a foundational understanding of the principles\, phases and activities necessary to implement fidelity Wraparound according to the National Wraparound Initiative.  Participants will leave with an understanding of their respective roles within Wraparound and how to orient youth\, families\, and system partners to the process. Participants will learn and practice facilitation skills\, receive hands-on experience utilizing the CANS within the Wraparound planning process\, and have opportunities to demonstrate learned information and skills through simulation and group work. \nJuly 2025 Foundational Training Schedule:All modules will be 8:30am – 12:30 pm \nPLEASE NOTE: This is a sequential training and all modules need to be taken in order. \nWeek 1 | Module 1 & 2 | July 22nd & 23rd [Tuesday & Wednesday]Week 2 | Module 3 & 4 | July 29th & 30th [Tuesday & Wednesday]Week 3 | Module 5 & 6 | August 5th & 6th [Tuesday & Wednesday] \n\n\n\n\n\n\n\nIntended Participants: \n\n\nNewly hired Wraparound: Care Coordinators\, Care Coordinator Supervisors and Coaches\, Family Partners\, Youth Partners\, Youth Partner Supervisors\, and Family Partner Supervisors \nPlease note: This training is intended for Oregon practitioners only. \n\n\n\n\n  \n			\n			\n				\n				\n				\n				\n			\n			\n				\n				\n				\n				\n				\n				\n				\n				\n				\n				Location\nZoom \nRegistration\nNOTE: REGISTERING FOR MODULE 1 OF THE FOUNDATIONAL TRAINING WILL AUTOMATICALLY REGISTER YOU FOR ALL MODULES \nRegister for Module 1 of this training. \nPlease note: This training is intended for Oregon practitioners only. \n 
URL:https://oregonwraparound.org/event/wraparound-foundational-training-module-5/
LOCATION:Online
CATEGORIES:Training
ORGANIZER;CN="Systems of Care Institute":MAILTO:orwrap@pdx.edu
END:VEVENT
BEGIN:VEVENT
DTSTART;TZID=America/Los_Angeles:20250806T083000
DTEND;TZID=America/Los_Angeles:20250806T123000
DTSTAMP:20260423T172440
CREATED:20250613T215043Z
LAST-MODIFIED:20250613T215254Z
UID:10000129-1754469000-1754483400@oregonwraparound.org
SUMMARY:Wraparound Foundational Training: Module 6
DESCRIPTION:Description: \n\n\n\n\nWraparound Foundational Training: Module Six\n\nWednesday\, August 6\, 2025\n8:30 am – 12:30 pm\n\n\nLocation: Zoom\n \nTrainers: Caitlin Baird\, Kristin Everhart\, Maria Hermsen-Kritz\, Tori Lopez\, Danielle Phillips\, Hannah Watah – SOCI \nThis training will provide participants with a foundational understanding of the principles\, phases and activities necessary to implement fidelity Wraparound according to the National Wraparound Initiative.  Participants will leave with an understanding of their respective roles within Wraparound and how to orient youth\, families\, and system partners to the process. Participants will learn and practice facilitation skills\, receive hands-on experience utilizing the CANS within the Wraparound planning process\, and have opportunities to demonstrate learned information and skills through simulation and group work. \nJuly 2025 Foundational Training Schedule:All modules will be 8:30am – 12:30 pm \nPLEASE NOTE: This is a sequential training and all modules need to be taken in order. \nWeek 1 | Module 1 & 2 | July 22nd & 23rd [Tuesday & Wednesday]Week 2 | Module 3 & 4 | July 29th & 30th [Tuesday & Wednesday]Week 3 | Module 5 & 6 | August 5th & 6th [Tuesday & Wednesday] \n\n\n\n\n\n\n\nIntended Participants: \n\n\nNewly hired Wraparound: Care Coordinators\, Care Coordinator Supervisors and Coaches\, Family Partners\, Youth Partners\, Youth Partner Supervisors\, and Family Partner Supervisors \nPlease note: This training is intended for Oregon practitioners only. \n\n\n\n\n  \n			\n			\n				\n				\n				\n				\n			\n			\n				\n				\n				\n				\n				\n				\n				\n				\n				\n				Location\nZoom \nRegistration\nNOTE: REGISTERING FOR MODULE 1 OF THE FOUNDATIONAL TRAINING WILL AUTOMATICALLY REGISTER YOU FOR ALL MODULES \nRegister for Module 1 of this training. \nPlease note: This training is intended for Oregon practitioners only. \n 
URL:https://oregonwraparound.org/event/wraparound-foundational-training-module-6/
LOCATION:Online
CATEGORIES:Training
ORGANIZER;CN="Systems of Care Institute":MAILTO:orwrap@pdx.edu
END:VEVENT
BEGIN:VEVENT
DTSTART;TZID=America/Los_Angeles:20250813T090000
DTEND;TZID=America/Los_Angeles:20250813T120000
DTSTAMP:20260423T172440
CREATED:20250714T155709Z
LAST-MODIFIED:20250806T230520Z
UID:10000093-1755075600-1755086400@oregonwraparound.org
SUMMARY:Advanced Training - Writing Needs Statements
DESCRIPTION:Description:\n\nThis advanced training will focus on developing and enhancing practitioners’ knowledge and skills specific to writing needs statements as they pertain to the Wraparound planning process. There will be opportunities to practice and ask questions. While the Wraparound Care Coordinators are responsible for writing the needs statements with the team\, all Wraparound practitioners are welcome to attend this training in order to develop a common understanding and language as it pertains to needs and needs statements to support youth\, families\, and their team members.   \nNOTE: Advanced trainings refer to the trainings’ content advancing beyond what is learned in the foundational training\, not to it being for individuals with advanced knowledge or experience on the topic. \n\n\n\nIntended Participants:\n\nAll Wraparound practitioners \nPlease note: This training is intended for Oregon practitioners only. \n\n\n\nLocation:\nOnline\n\n\nDate & Time:\nWednedsay\, August 13\, 2025 from 9am – 12pm\n\n\n\n			\n			\n				\n				\n				\n				\n			\n			\n				\n				\n				\n				\n				\n				\n				\n				\n				\n				Location\nZoom \nRegistration\nRegistration for this training is now closed. \nIf you have specific accessibility needs please register as soon as possible. Accommodations need to be arranged a minimum of 3 weeks prior to the event. The registration for this training will close approximately one week prior to the event. \nFor assistance with captcha difficulties\, please email orwrap@pdx.edu. \nPlease note: This training is intended for Oregon practitioners only.
URL:https://oregonwraparound.org/event/advanced-training-writing-needs-statements/
LOCATION:Online
CATEGORIES:Training
ORGANIZER;CN="Systems of Care Institute":MAILTO:orwrap@pdx.edu
END:VEVENT
BEGIN:VEVENT
DTSTART;TZID=America/Los_Angeles:20250821T130000
DTEND;TZID=America/Los_Angeles:20250821T143000
DTSTAMP:20260423T172440
CREATED:20250814T164453Z
LAST-MODIFIED:20250820T211450Z
UID:10000062-1755781200-1755786600@oregonwraparound.org
SUMMARY:Cultural Considerations Workgroup
DESCRIPTION:Description:\nCultural Considerations Workgroup is a collaborative learning space for Wraparound practitioners to grow there cultural responsive skills with other practitioners. The meeting is hosted by SOCI and typically involves a sharing of a cultural concept and discussion. In addition it is an opportunity for consultation on cultural considerations when working in Wraparound. To attend please contact Tori Lopez at lopezvic@pdx.edu .\n\n\nIntended Participants:\n\nThis group is for bilingual/ bicultural and cross-cultural Wraparound care coordinators\, Wraparound family partners and Wraparound youth partners. \nPlease note: This training is intended for Oregon practitioners only. \n\n\n\nLocation:\nOnline\n\n\nDate & Time:\nThird Thursday of each month\, from 1pm – 2:30pm\n\n\n\n			\n			\n				\n				\n				\n				\n			\n			\n				\n				\n				\n				\n				\n				\n				\n				\n				\n				Location\nZoom \nRegistration\nTo attend please contact Tori Lopez at lopezvic@pdx.edu . \n 
URL:https://oregonwraparound.org/event/cultural-considerations-workgroup/2025-08-21/
LOCATION:Online
CATEGORIES:Workgroup
ORGANIZER;CN="Systems of Care Institute":MAILTO:orwrap@pdx.edu
END:VEVENT
END:VCALENDAR