BEGIN:VCALENDAR
VERSION:2.0
PRODID:-//Oregon Wraparound - ECPv6.15.20//NONSGML v1.0//EN
CALSCALE:GREGORIAN
METHOD:PUBLISH
X-WR-CALNAME:Oregon Wraparound
X-ORIGINAL-URL:https://oregonwraparound.org
X-WR-CALDESC:Events for Oregon Wraparound
REFRESH-INTERVAL;VALUE=DURATION:PT1H
X-Robots-Tag:noindex
X-PUBLISHED-TTL:PT1H
BEGIN:VTIMEZONE
TZID:America/Los_Angeles
BEGIN:DAYLIGHT
TZOFFSETFROM:-0800
TZOFFSETTO:-0700
TZNAME:PDT
DTSTART:20240310T100000
END:DAYLIGHT
BEGIN:STANDARD
TZOFFSETFROM:-0700
TZOFFSETTO:-0800
TZNAME:PST
DTSTART:20241103T090000
END:STANDARD
BEGIN:DAYLIGHT
TZOFFSETFROM:-0800
TZOFFSETTO:-0700
TZNAME:PDT
DTSTART:20250309T100000
END:DAYLIGHT
BEGIN:STANDARD
TZOFFSETFROM:-0700
TZOFFSETTO:-0800
TZNAME:PST
DTSTART:20251102T090000
END:STANDARD
BEGIN:DAYLIGHT
TZOFFSETFROM:-0800
TZOFFSETTO:-0700
TZNAME:PDT
DTSTART:20260308T100000
END:DAYLIGHT
BEGIN:STANDARD
TZOFFSETFROM:-0700
TZOFFSETTO:-0800
TZNAME:PST
DTSTART:20261101T090000
END:STANDARD
END:VTIMEZONE
BEGIN:VEVENT
DTSTART;TZID=America/Los_Angeles:20250430T083000
DTEND;TZID=America/Los_Angeles:20250430T123000
DTSTAMP:20260424T083517
CREATED:20241002T181807Z
LAST-MODIFIED:20250610T215844Z
UID:10000101-1746001800-1746016200@oregonwraparound.org
SUMMARY:Wraparound Foundational Training – Module 2
DESCRIPTION:Description: \n\n\n\n\nWraparound Foundational Training: Module Two\n\nWednesday\, April 30\, 2025\n8:30 am – 12:30 pm\n\n\nLocation: Zoom\n \nTrainers: Caitlin Baird\, Kristin Everhart\, Maria Hermsen-Kritz\, Tori Lopez\, Danielle Phillips\, Hannah Watah – SOCI \nThis training will provide participants with a foundational understanding of the principles\, phases and activities necessary to implement fidelity Wraparound according to the National Wraparound Initiative.  Participants will leave with an understanding of their respective roles within Wraparound and how to orient youth\, families\, and system partners to the process. Participants will learn and practice facilitation skills\, receive hands-on experience utilizing the CANS within the Wraparound planning process\, and have opportunities to demonstrate learned information and skills through simulation and group work. \nMay 2025 Foundational Training Schedule:All modules will be 8:30am – 12:30 pm \nPLEASE NOTE: This is a sequential training and all modules need to be taken in order. \nWeek 1 | Module 1 & 2 | April 29th & 30th [Tuesday & Wednesday] \nWeek 2 | Module 3 & 4 | May 6th & 7th [Tuesday & Wednesday] \nWeek 3 | Module 5 & 6 | May 13th & 14th [Tuesday & Wednesday] \n\n\n\n\n\n\n\nIntended Participants: \n\n\nNewly hired Wraparound: Care Coordinators\, Care Coordinator Supervisors and Coaches\, Family Partners\, Youth Partners\, Youth Partner Supervisors\, and Family Partner Supervisors \nPlease note: This training is intended for Oregon practitioners only. \n\n\n\n\n  \n			\n			\n				\n				\n				\n				\n			\n			\n				\n				\n				\n				\n				\n				\n				\n				\n				\n				Location\nZoom \nRegistration\nNOTE: REGISTERING FOR MODULE 1 OF THE FOUNDATIONAL TRAINING WILL AUTOMATICALLY REGISTER YOU FOR ALL MODULES \nRegister for Module 1 of this training. \nPlease note: This training is intended for Oregon practitioners only. \n 
URL:https://oregonwraparound.org/event/wraparound-foundational-training-module-2-10/
LOCATION:Online
CATEGORIES:Training
ORGANIZER;CN="Systems of Care Institute":MAILTO:orwrap@pdx.edu
END:VEVENT
BEGIN:VEVENT
DTSTART;TZID=America/Los_Angeles:20250429T083000
DTEND;TZID=America/Los_Angeles:20250429T123000
DTSTAMP:20260424T083517
CREATED:20241002T181115Z
LAST-MODIFIED:20250610T215844Z
UID:10000100-1745915400-1745929800@oregonwraparound.org
SUMMARY:Wraparound Foundational Training – Module 1
DESCRIPTION:Description: \n\n\n\n\nWraparound Foundational Training: Module One\n\nTuesday\, April 29\, 2025\n8:30 am – 12:30 pm\n\n\nLocation: Zoom\n \nTrainers: Caitlin Baird\, Kristin Everhart\, Maria Hermsen-Kritz\, Tori Lopez\, Danielle Phillips\, Hannah Watah – SOCI \nThis training will provide participants with a foundational understanding of the principles\, phases and activities necessary to implement fidelity Wraparound according to the National Wraparound Initiative.  Participants will leave with an understanding of their respective roles within Wraparound and how to orient youth\, families\, and system partners to the process. Participants will learn and practice facilitation skills\, receive hands-on experience utilizing the CANS within the Wraparound planning process\, and have opportunities to demonstrate learned information and skills through simulation and group work. \nMay 2025 Foundational Training Schedule:All modules will be 8:30am – 12:30 pm \nPLEASE NOTE: This is a sequential training and all modules need to be taken in order. \nWeek 1 | Module 1 & 2 | April 29th & 30th [Tuesday & Wednesday] \nWeek 2 | Module 3 & 4 | May 6th & 7th [Tuesday & Wednesday] \nWeek 3 | Module 5 & 6 | May 13th & 14th [Tuesday & Wednesday] \n\n\n\n\n\n\n\nIntended Participants: \n\n\nNewly hired Wraparound: Care Coordinators\, Care Coordinator Supervisors and Coaches\, Family Partners\, Youth Partners\, Youth Partner Supervisors\, and Family Partner Supervisors \nPlease note: This training is intended for Oregon practitioners only. \n\n\n\n\n  \n			\n			\n				\n				\n				\n				\n			\n			\n				\n				\n				\n				\n				\n				\n				\n				\n				\n				Location\nZoom \nRegistration\nRegistration for this training series is now closed. \nRegistering for Module 1 will automatically register you for all modules in this training series. \nIf you have specific accessibility needs please register as soon as possible. Accommodations need to be arranged a minimum of 3 weeks prior to the event. The registration for this training will close approximately one week prior to the event. \nFor assistance with captcha difficulties\, please email orwrap@pdx.edu. \nPlease note: This training is intended for Oregon practitioners only. \n 
URL:https://oregonwraparound.org/event/wraparound-foundational-training-module-1-8/
LOCATION:Online
CATEGORIES:Training
ORGANIZER;CN="Systems of Care Institute":MAILTO:orwrap@pdx.edu
END:VEVENT
BEGIN:VEVENT
DTSTART;TZID=America/Los_Angeles:20250424T100000
DTEND;TZID=America/Los_Angeles:20250424T160000
DTSTAMP:20260424T083517
CREATED:20241002T184739Z
LAST-MODIFIED:20250610T215844Z
UID:10000001-1745488800-1745510400@oregonwraparound.org
SUMMARY:Wraparound Supervisor and Coaches Training
DESCRIPTION:Description:\n\nThis training will provide new supervisors and coaches a developmental framework to assist the knowledge and skill development of Wraparound Care Coordinators\, Wraparound Family Partners\, and Wraparound Youth Partners as well as to support High Quality Wraparound Implemented to Fidelity. \n*This training is repeated every four months; individuals need only attend once.*This training meets the OAR requirement 14 (c). \n\n\n\nIntended Participants:\n\nNewly hired: \n\nWraparound Care Coordinator Supervisors\nWraparound Family Partner Supervisors\nWraparound Youth Partner Supervisors\nWraparound Care Coordinator Coaches\nWraparound Family Partner Coaches\nWraparound Youth Partner Coaches\n\n\n\n\nLocation:\nOnline\n\n\n\n			\n				\n				\n				\n				\n				\n\n			\n			\n				\n				\n				\n				\n			\n			\n				\n				\n				\n				\n				\n				\n				\n				\n				\n				Location\nZoom \nRegistration\nRegister for this training using the form below. \nIf you have specific accessibility needs please register as soon as possible. Accommodations need to be arranged a minimum of 3 weeks prior to the event. The registration for this training will close approximately one week prior to the event. \nFor assistance with captcha difficulties\, please email orwrap@pdx.edu. \nPlease note: This training is intended for Oregon practitioners only.
URL:https://oregonwraparound.org/event/wraparound-supervisor-and-coaches-training-2/
LOCATION:Online
CATEGORIES:Training
ORGANIZER;CN="Systems of Care Institute":MAILTO:orwrap@pdx.edu
END:VEVENT
END:VCALENDAR