BEGIN:VCALENDAR
VERSION:2.0
PRODID:-//Oregon Wraparound - ECPv6.15.20//NONSGML v1.0//EN
CALSCALE:GREGORIAN
METHOD:PUBLISH
X-ORIGINAL-URL:https://oregonwraparound.org
X-WR-CALDESC:Events for Oregon Wraparound
REFRESH-INTERVAL;VALUE=DURATION:PT1H
X-Robots-Tag:noindex
X-PUBLISHED-TTL:PT1H
BEGIN:VTIMEZONE
TZID:America/Los_Angeles
BEGIN:DAYLIGHT
TZOFFSETFROM:-0800
TZOFFSETTO:-0700
TZNAME:PDT
DTSTART:20250309T100000
END:DAYLIGHT
BEGIN:STANDARD
TZOFFSETFROM:-0700
TZOFFSETTO:-0800
TZNAME:PST
DTSTART:20251102T090000
END:STANDARD
BEGIN:DAYLIGHT
TZOFFSETFROM:-0800
TZOFFSETTO:-0700
TZNAME:PDT
DTSTART:20260308T100000
END:DAYLIGHT
BEGIN:STANDARD
TZOFFSETFROM:-0700
TZOFFSETTO:-0800
TZNAME:PST
DTSTART:20261101T090000
END:STANDARD
BEGIN:DAYLIGHT
TZOFFSETFROM:-0800
TZOFFSETTO:-0700
TZNAME:PDT
DTSTART:20270314T100000
END:DAYLIGHT
BEGIN:STANDARD
TZOFFSETFROM:-0700
TZOFFSETTO:-0800
TZNAME:PST
DTSTART:20271107T090000
END:STANDARD
END:VTIMEZONE
BEGIN:VEVENT
DTSTART;TZID=America/Los_Angeles:20261112T083000
DTEND;TZID=America/Los_Angeles:20261112T123000
DTSTAMP:20260425T053010
CREATED:20260424T213009Z
LAST-MODIFIED:20260424T213013Z
UID:10000153-1794472200-1794486600@oregonwraparound.org
SUMMARY:OFSN Training: Partners In Possibility\, Parts 1 & 2
DESCRIPTION:Description:\nWraparound FSS Module 1 & 2. Empower others–and yourself! OFSN’s Partners In Possibility is a two-part training designed specifically for Family Support Specialists\, who play a key role in the Wraparound process. Increase understanding of Wraparound fidelity and gain tools and practical strategies to bring family voice to the forefront\, strengthen partnerships with team members\, and support families through every phase of Wraparound. \nThis training is two four-hour sessions over two days. \nPrerequisite: Completion of SOCI’s 4-part Wraparound Foundations series.\n\n\nIntended Participants:\nFSSes who have completed SOCI’s 4-part Wraparound Foundations Training.\n\n\nLocation:\nOnline\n\n\nDate & Time:\nTuesday\, November 10 & Thursday November 12\, 2026 from 8:30am – 12:30pm\n\n\n\n			\n			\n				\n				\n				\n				\n			\n			\n				\n				\n				\n				\n				\n				\n				\n				\n				\n				Location\nZoom \nRegistration\nRegistration for this training will open at a later date.
URL:https://oregonwraparound.org/event/ofsn-training-partners-in-possibility-parts-1-2-7/
LOCATION:Online
CATEGORIES:Training
ORGANIZER;CN="Oregon Family Support Network":MAILTO:shawnac@ofsn.net
END:VEVENT
BEGIN:VEVENT
DTSTART;TZID=America/Los_Angeles:20261117T100000
DTEND;TZID=America/Los_Angeles:20261117T113000
DTSTAMP:20260425T053010
CREATED:20250820T211141Z
LAST-MODIFIED:20250820T211141Z
UID:10000014-1794909600-1794915000@oregonwraparound.org
SUMMARY:WFI-EZ Overview Training
DESCRIPTION:Description:\nThe purpose of this training is to provide an overview of the WFI-EZ tool including why it’s important to collect fidelity data\, the layout of the tool\, why it is being used in Oregon\, the timeline and workflow of WFI-EZ data collection\, and response rate expectations.\n\n\nIntended Participants:\n\nAll wraparound practitioners \nPlease note: This training is intended for Oregon practitioners only. \n\n\n\nLocation:\nOnline\n\n\nDate & Time:\nTuesday\, November 17\, 2026 from 10am – 11:30am\n\n\n\n			\n			\n				\n				\n				\n				\n			\n			\n				\n				\n				\n				\n				\n				\n				\n				\n				\n				Location\nZoom \nRegistration\nRegistration for this training will open at a later date. \nIf you have specific accessibility needs please register as soon as possible. Accommodations need to be arranged a minimum of 3 weeks prior to the event. The registration for this training will close approximately one week prior to the event. \nFor assistance with captcha difficulties\, please email orwrap@pdx.edu. \nPlease note: This training is intended for Oregon practitioners only. \n 
URL:https://oregonwraparound.org/event/wfi-ez-overview-training-5/
LOCATION:Online
CATEGORIES:Training
ORGANIZER;CN="Systems of Care Institute":MAILTO:orwrap@pdx.edu
END:VEVENT
BEGIN:VEVENT
DTSTART;TZID=America/Los_Angeles:20261118T100000
DTEND;TZID=America/Los_Angeles:20261118T160000
DTSTAMP:20260425T053010
CREATED:20260204T202834Z
LAST-MODIFIED:20260204T202834Z
UID:10000139-1794996000-1795017600@oregonwraparound.org
SUMMARY:Impact Makers: Foundational Training for YSS in Wraparound
DESCRIPTION:Description:\n\nJoin us for the Impact Makers: Foundational Training for Wraparound YSS\, designed to equip you with the essential skills and knowledge to support youth and families effectively. This training covers the principles\, phases\, and components of the Wraparound process\, ensuring you understand how to provide individualized\, family-driven\, and culturally responsive planning. \nThis training is required for all WYSS and will also be open to other Wraparound provider role types to deepen system-wide understanding of the Youth Support Specialist’s role in Wraparound. \n🚩Heads Up: To get OHA sponsorship\, you’ll need to have finished Wraparound Foundations Training through the System of Care Institute. Please make sure you’re eligible before registering 😁 \nImpact Makers is composed of two five-hour modules held virtually on Zoom.  \n\n\n\nIntended Participants:\nYouth Support Specialists in Wraparound and other Wraparound provider role types. \n\n\nLocation:\nOnline\n\n\nDate & Time:\nWednesday\, November 18 & Thursday\, November 19\, 2026 from 10:00am – 4:00pm (1-hour lunch)\n\n\n\n			\n			\n				\n				\n				\n				\n			\n			\n				\n				\n				\n				\n				\n				\n				\n				\n				\n				Location\nZoom \nRegistration\nRegister for this training by following this link: \nhttps://www.youthera.org/peerplus/impact-makers-nov26
URL:https://oregonwraparound.org/event/impact-makers-foundational-training-for-yss-in-wraparound-4/2026-11-18/
LOCATION:Online
CATEGORIES:Training
ORGANIZER;CN="Youth ERA":MAILTO:yeconnect@youthera.org
END:VEVENT
BEGIN:VEVENT
DTSTART;TZID=America/Los_Angeles:20261119T100000
DTEND;TZID=America/Los_Angeles:20261119T160000
DTSTAMP:20260425T053010
CREATED:20260204T202834Z
LAST-MODIFIED:20260204T202834Z
UID:10000140-1795082400-1795104000@oregonwraparound.org
SUMMARY:Impact Makers: Foundational Training for YSS in Wraparound
DESCRIPTION:Description:\n\nJoin us for the Impact Makers: Foundational Training for Wraparound YSS\, designed to equip you with the essential skills and knowledge to support youth and families effectively. This training covers the principles\, phases\, and components of the Wraparound process\, ensuring you understand how to provide individualized\, family-driven\, and culturally responsive planning. \nThis training is required for all WYSS and will also be open to other Wraparound provider role types to deepen system-wide understanding of the Youth Support Specialist’s role in Wraparound. \n🚩Heads Up: To get OHA sponsorship\, you’ll need to have finished Wraparound Foundations Training through the System of Care Institute. Please make sure you’re eligible before registering 😁 \nImpact Makers is composed of two five-hour modules held virtually on Zoom.  \n\n\n\nIntended Participants:\nYouth Support Specialists in Wraparound and other Wraparound provider role types. \n\n\nLocation:\nOnline\n\n\nDate & Time:\nWednesday\, November 18 & Thursday\, November 19\, 2026 from 10:00am – 4:00pm (1-hour lunch)\n\n\n\n			\n			\n				\n				\n				\n				\n			\n			\n				\n				\n				\n				\n				\n				\n				\n				\n				\n				Location\nZoom \nRegistration\nRegister for this training by following this link: \nhttps://www.youthera.org/peerplus/impact-makers-nov26
URL:https://oregonwraparound.org/event/impact-makers-foundational-training-for-yss-in-wraparound-4/2026-11-19/
LOCATION:Online
CATEGORIES:Training
ORGANIZER;CN="Youth ERA":MAILTO:yeconnect@youthera.org
END:VEVENT
END:VCALENDAR