BEGIN:VCALENDAR
VERSION:2.0
PRODID:-//Oregon Wraparound - ECPv6.15.20//NONSGML v1.0//EN
CALSCALE:GREGORIAN
METHOD:PUBLISH
X-WR-CALNAME:Oregon Wraparound
X-ORIGINAL-URL:https://oregonwraparound.org
X-WR-CALDESC:Events for Oregon Wraparound
REFRESH-INTERVAL;VALUE=DURATION:PT1H
X-Robots-Tag:noindex
X-PUBLISHED-TTL:PT1H
BEGIN:VTIMEZONE
TZID:America/Los_Angeles
BEGIN:DAYLIGHT
TZOFFSETFROM:-0800
TZOFFSETTO:-0700
TZNAME:PDT
DTSTART:20250309T100000
END:DAYLIGHT
BEGIN:STANDARD
TZOFFSETFROM:-0700
TZOFFSETTO:-0800
TZNAME:PST
DTSTART:20251102T090000
END:STANDARD
BEGIN:DAYLIGHT
TZOFFSETFROM:-0800
TZOFFSETTO:-0700
TZNAME:PDT
DTSTART:20260308T100000
END:DAYLIGHT
BEGIN:STANDARD
TZOFFSETFROM:-0700
TZOFFSETTO:-0800
TZNAME:PST
DTSTART:20261101T090000
END:STANDARD
BEGIN:DAYLIGHT
TZOFFSETFROM:-0800
TZOFFSETTO:-0700
TZNAME:PDT
DTSTART:20270314T100000
END:DAYLIGHT
BEGIN:STANDARD
TZOFFSETFROM:-0700
TZOFFSETTO:-0800
TZNAME:PST
DTSTART:20271107T090000
END:STANDARD
END:VTIMEZONE
BEGIN:VEVENT
DTSTART;TZID=America/Los_Angeles:20260105T090000
DTEND;TZID=America/Los_Angeles:20260105T110000
DTSTAMP:20260423T172351
CREATED:20250820T202421Z
LAST-MODIFIED:20251229T204245Z
UID:10000114-1767603600-1767610800@oregonwraparound.org
SUMMARY:Wraparound Supervisors and Coaches Workshop: Fostering Collaborative Relationships Between Core Team Members
DESCRIPTION:Description:\n\nThis workshop will be a collaborative learning experience for Oregon Wraparound Coaches and Supervisors. In the workshop content will be delivered in lecture and collaborative discussions in the large group setting with trainers  as well as in breakout rooms with their peers. Content for this workshop will be centered around effective collaboration between Core Team Members (Wraparound Care Coordinators\, Family Partners\, and Youth Partners)\, using Wraparound Principles to foster collaboration\, building rapport and relationship between Wraparound Care Coordinators and Peer Support Specialists\, and understanding the capacity of each role.  \n\n\n\nIntended Participants:\n\nWraparound Coaches and Supervisors  \nPlease note: This training is intended for Oregon practitioners only. \n\n\n\nLocation:\nOnline\n\n\nDate & Time:\nMonday\, January 5 2026 from 9am – 11am\n\n\n\n			\n			\n				\n				\n				\n				\n			\n			\n				\n				\n				\n				\n				\n				\n				\n				\n				\n				Location\nZoom \nRegistration\nRegistration for this workshop is now closed. \nIf you have specific accessibility needs please register as soon as possible. Accommodations need to be arranged a minimum of 3 weeks prior to the event. The registration for this training will close approximately one week prior to the event. \nFor assistance with captcha difficulties\, please email orwrap@pdx.edu. \nPlease note: This training is intended for Oregon practitioners only.
URL:https://oregonwraparound.org/event/wraparound-supervisors-and-coaches-workshop-fostering-collaborative-relationships-between-core-team-members/
LOCATION:Online
CATEGORIES:Learning Collaborative
ORGANIZER;CN="Systems of Care Institute":MAILTO:orwrap@pdx.edu
END:VEVENT
END:VCALENDAR