BEGIN:VCALENDAR
VERSION:2.0
PRODID:-//Oregon Wraparound - ECPv6.15.20//NONSGML v1.0//EN
CALSCALE:GREGORIAN
METHOD:PUBLISH
X-ORIGINAL-URL:https://oregonwraparound.org
X-WR-CALDESC:Events for Oregon Wraparound
REFRESH-INTERVAL;VALUE=DURATION:PT1H
X-Robots-Tag:noindex
X-PUBLISHED-TTL:PT1H
BEGIN:VTIMEZONE
TZID:America/Los_Angeles
BEGIN:DAYLIGHT
TZOFFSETFROM:-0800
TZOFFSETTO:-0700
TZNAME:PDT
DTSTART:20240310T100000
END:DAYLIGHT
BEGIN:STANDARD
TZOFFSETFROM:-0700
TZOFFSETTO:-0800
TZNAME:PST
DTSTART:20241103T090000
END:STANDARD
BEGIN:DAYLIGHT
TZOFFSETFROM:-0800
TZOFFSETTO:-0700
TZNAME:PDT
DTSTART:20250309T100000
END:DAYLIGHT
BEGIN:STANDARD
TZOFFSETFROM:-0700
TZOFFSETTO:-0800
TZNAME:PST
DTSTART:20251102T090000
END:STANDARD
BEGIN:DAYLIGHT
TZOFFSETFROM:-0800
TZOFFSETTO:-0700
TZNAME:PDT
DTSTART:20260308T100000
END:DAYLIGHT
BEGIN:STANDARD
TZOFFSETFROM:-0700
TZOFFSETTO:-0800
TZNAME:PST
DTSTART:20261101T090000
END:STANDARD
END:VTIMEZONE
BEGIN:VEVENT
DTSTART;TZID=America/Los_Angeles:20250626T103000
DTEND;TZID=America/Los_Angeles:20250626T120000
DTSTAMP:20260423T200133
CREATED:20241002T202201Z
LAST-MODIFIED:20250625T213754Z
UID:10000005-1750933800-1750939200@oregonwraparound.org
SUMMARY:Bi-Monthly Consultation Call
DESCRIPTION:Desription:\nTrainers will lead discussions on broad topics related to Wraparound and will host discussions around specific questions brought to the consultation by the field.\n\n\nIntended Participants:\n\nCare coordinators\, youth partners\, family partners\, coaches\, and supervisors. \nPlease note: This training is intended for Oregon practitioners only. \n\n\n\nLocation:\nOnline\n\n\nDate & Time:\nWednesday\, June 25\, 2025 from 10:30 am – 12:00pm\n\n\n\n			\n				\n				\n				\n				\n				\n\n			\n			\n				\n				\n				\n				\n			\n			\n				\n				\n				\n				\n				\n				\n				\n				\n				\n				Location\nZoom \nRegistration\nRegister for this call using the form below. \nIf you have specific accessibility needs please register as soon as possible. Accommodations need to be arranged a minimum of 3 weeks prior to the event. The registration for this training will close approximately one week prior to the event. \nFor assistance with captcha difficulties\, please email orwrap@pdx.edu. \nPlease note: This training is intended for Oregon practitioners only.
URL:https://oregonwraparound.org/event/bi-monthly-consultation-call-10/
LOCATION:Online
CATEGORIES:Coaching
ORGANIZER;CN="Systems of Care Institute":MAILTO:orwrap@pdx.edu
END:VEVENT
BEGIN:VEVENT
DTSTART;TZID=America/Los_Angeles:20250602T090000
DTEND;TZID=America/Los_Angeles:20250602T110000
DTSTAMP:20260423T200133
CREATED:20250502T182401Z
LAST-MODIFIED:20250610T215845Z
UID:10000007-1748854800-1748862000@oregonwraparound.org
SUMMARY:Wraparound Coaches & Supervisors Workshop: Navigating Long Term Wraparound Cases
DESCRIPTION:Description:\nParticipants will learn how to assess and support Wraparound practitioners through supervision and coaching when a case is engaged in the Wraparound process longer than 14 months. Supervisors and coaches will learn strategies to address long term cases\, will discuss and problem solve scenarios\, and will engage in collaborative consultation with peers to address current issues within their teams regarding longer term Wraparound cases. This workshop is for current Wraparound supervisors and coaches only.\n\n\nIntended Participants:\n\nWraparound Coaches and Supervisors  \nPlease note: This training is intended for Oregon practitioners only. \n\n\n\nLocation:\nOnline\n\n\nDate & Time:\nMonday\, June 2\, 2025 from 9am – 11am\n\n\n\n			\n			\n				\n				\n				\n				\n			\n			\n				\n				\n				\n				\n				\n				\n				\n				\n				\n				Location\nZoom \nRegistration\nRegistration for this workshop is now closed. \nIf you have specific accessibility needs please register as soon as possible. Accommodations need to be arranged a minimum of 3 weeks prior to the event. The registration for this training will close approximately one week prior to the event. \nFor assistance with captcha difficulties\, please email orwrap@pdx.edu. \nPlease note: This training is intended for Oregon practitioners only.
URL:https://oregonwraparound.org/event/wraparound-coaches-supervisors-workshop-navigating-long-term-wraparound-cases/
LOCATION:Online
CATEGORIES:Coaching
ORGANIZER;CN="Systems of Care Institute":MAILTO:orwrap@pdx.edu
END:VEVENT
END:VCALENDAR